BEGIN:VCALENDAR
METHOD:PUBLISH
VERSION:2.0
PRODID:-//Eventilla iCal Syndication//NONSGML Liana//EN
BEGIN:VEVENT
UID:Z7W5J@eventilla.com
DTSTAMP:20250307T070000Z
DTSTART:20250307T070000Z
DTEND:20250307T100000Z
SUMMARY:ChatGPT johtajille ja johtoryhmälle
DESCRIPTION:Kuvaus\nTekoäly tuo tehokkuutta yritykseen ja organisaatioon\, miten? Miten ChatGPT ja tekoäly yleisesti kehittyvät tulevaisuudessa? Mitä johtoryhmän ja omistajien on mietittävä ChatGPT ja muiden AI-työkalujen käyttöönotossa? Kaikille vai osalle henkilöstöä? Keskustelemme myös osallistujien kanssa siitä\, miten he näkevät ChatGPT:n hyödyntämisen omassa organisaatiossa? \nKoulutus tarjoaa runsaasti ajatuksia AI-työkalujen ja erityisesti ChapGPT:n mahdollisuuksista\, käytännön esimerkein ja harjoituksin\, jotka auttavat ymmärtämään teoriaa konkreettisesti. Minkälaisia kokemuksia ChatGPT:n käyttö voisi myös tuoda omaan organisaatioon? \nKoulutus on suunniteltu johtoryhmälle. Koulutuksen tarkoitus on antaa osallistujille ymmärrys ChatGPT:n ja tekoälyn toimintaperiaatteista\, ilmiöistä\, käytännön sovelluksista\, mahdollisuuksista ja haasteista liiketoiminnassa\, sekä tietysti tietoturvaan liittyvistä näkökulmista.  \nKenelle: Koulutus on tarkoitettu kaikille hallituksen jäsenille\, ylemmälle ja keskitason johdolle\, sekä yritysten omistajille.\n__\nEtäkoulutus: ChatGPT johtajille ja johtoryhmälle\, PDF\nOhjelma klo 09.00–12.00 +/-15 min.\nSisältö:\n\nChatGPT perusteet ja teknologia\n\nKoko organisaatiolle vai rajatulle joukolle\nVersioita ja erilaisia tekoälyratkaisuja\n\n\nJohdantoa AI maailmaan ja ChatGPT:n peruskäyttö\n\nLainsäädäntö ja tekoälyn käytön eettiset periaatteet\n\n\nMiten maailmalla käytetään?\nMikä on ChatGPT ja miten se toimii?\n\nTekoälyn ja koneoppimisen perusteet\nChatGPT:n kehityshistoria ja sen eri versiot\n\n\nTeknologian syvempi ymmärtäminen\n\nChatGPT:n tekniset yksityiskohdat ja mahdollisuudet\n\n\nMallin kouluttaminen\, mitä tarkoittaa?\n\nData\, oppimisprosessi ja mallin arviointi\n\n\nKäytännön esimerkit ChatGPT:n toiminnasta eri tyyppisissä organisaatioissa\nHarjoitukset ja esimerkit\nChatGPT:n kokeilu ja sen mahdollisuuksien tutkiminen\nChatGPT:n soveltaminen eri liiketoiminta-alueilla\nEsimerkit\n\nTyökulut\nOngelmanratkaisu\nTehokkuus\nViestintä ja markkinointi\nCXO esimerkit\n\n\n\n_
LOCATION:Etäkoulutus\, Suomi
URL:http://ssl.eventilla.com/event/Z7W5J
END:VEVENT
END:VCALENDAR
