BEGIN:VCALENDAR
METHOD:PUBLISH
VERSION:2.0
PRODID:-//Eventilla iCal Syndication//NONSGML Liana//EN
BEGIN:VEVENT
UID:Z7y3a@eventilla.com
DTSTAMP:20260610T053000Z
DTSTART:20260610T053000Z
DTEND:20260610T193000Z
SUMMARY:Linnanmäkiretki
DESCRIPTION:Naantalin nuorisopalvelut järjestävät kesäretken Linnanmäelle. Retki Linnnanmäelle 10.6.2026 yli 12-vuotiaille. Alle 12-vuotiaat huoltajan seurassa.\nBussin aikataulu: \nVelkua Teersalo 10.15\nKlo 10.30 Rymättylän linja-autotallit (Heinäistentie 10).\nKlo 10.45 Merimaskun bussipysäkki Särkänsalmen siltaa ennen oleva pysäkki (pysäkki tunnus: 3040)\nN. klo 11.00 Naantalin keskustan pysäkki\nN. klo 11.04 Ruonan pysäkki \nN. klo 11.06 Lietsalan pysäkki\nKuljetus saaristosta järjestetään\, mikäli osallistujia on vähintään 4 henkilöä.\nRetken hinta 44 €\, sis. rannekkeen ja matkan. Retki toteutetaan\, mikäli osallistujia vähintään 20. Takaisin lähdetään klo 20.30. Ilmoittaudu Linnamäkiretkelle! HUOM. Linnanmäelle ei pääse enää ilmaiseksi sisälle\, Aluelippu 5€ mahdollista ostaa paikan päältä.
LOCATION:Linnanmäki
URL:http://ssl.eventilla.com/event/Z7y3a
END:VEVENT
END:VCALENDAR
