BEGIN:VCALENDAR
METHOD:PUBLISH
VERSION:2.0
PRODID:-//Eventilla iCal Syndication//NONSGML Liana//EN
BEGIN:VEVENT
UID:ZP2PJ@eventilla.com
DTSTAMP:20230101T040000Z
DTSTART:20230101T040000Z
DTEND:20230430T170000Z
SUMMARY:Talviuinti kontista kevät 2023
DESCRIPTION:KONTISTA UIMAAN KEVÄTKAUSI 2023\nTällä lomakkeella voi ilmoittautua talviuntiin Helsingin Ladun ja Polun talviuntipaikalle Rastilaan. Tutustuthan ennen ilmoittautumista Rastilan talviunti ohjeisiin.\nKonttimaksu oikeuttaa talviuintipaikan ja lämpimän pukukopin käyttöön keväällä 2023. Kevätkausi alkaa su 1.1.2023 ja päättyy su 30.4.2023. Pukuhuonekontti on käytettävissä vapaasti klo 6.00-20.00.\nKonttiuinnin maksu kevätkaudelle on 40 €.Pukuhuonekonttiin pääsee henkilökohtaisella kulkutunnisteella\, jonka uudet uimarit lunastavat avainpanttimaksulla. Avainpanttimaksu on 20 euroa ja se maksetaan vain kerran. Pantti palautetaan\, kun lopetat talviuinnin. Huomioithan\, että kulkutunnisteavain on henkilökohtainen ja sitä ei saa luovuttaa toiselle henkilölle.\nUusille uimareille jaetaan avaimia Rastilan talviuintikontilla tiistaina 3.1. klo 16.30-17.30. Jos\, et pääset tällöin hakemaan avainta\, avain tulee noutaa toimistolta. Sovithan tällöin noudon erikseen-\nMuistathan\, että talviuintiiin voivat ilmoittautua vain Helsingin Latu ja Polku ry:n jäsenet. Jäseneksi voit liittyä tässä: Liity jäseneksi. Mikäli sinulla on epäselvyyttä\, oletko jäsen\, voit tarkistaa sen laittamalla sähköpostin toimisto@helsinginlatu.fi.Mikäli paikat ovat täynnä\, voit ilmoittautua jonoon. Jonossa oleville henkilöille ilmoitetaan (ilmoittautumisjärjestyksessä)\, jos paikkoja talviuintiin vapautuu.
LOCATION:Rastilan talviuintipaikka\, Karavaanikatu 4\, 00980\, Helsinki\,
 Suomi
URL:http://ssl.eventilla.com/event/ZP2PJ
END:VEVENT
END:VCALENDAR
