BEGIN:VCALENDAR
METHOD:PUBLISH
VERSION:2.0
PRODID:-//Eventilla iCal Syndication//NONSGML Liana//EN
BEGIN:VEVENT
UID:ZP3dG@eventilla.com
DTSTAMP:20231207T110000Z
DTSTART:20231207T110000Z
DTEND:20231207T133000Z
SUMMARY:Tuberkuloosia työpaikalla? – lakisääteisten TB-tarkastusten toteuttaminen sote-alalla ja varhaiskasvatuksessa
DESCRIPTION:Webinaari toteutetaan teamsilla.\nLisätiedot Filhan koulutuskalenterissa.
LOCATION:
URL:http://ssl.eventilla.com/event/ZP3dG
END:VEVENT
END:VCALENDAR
