BEGIN:VCALENDAR
METHOD:PUBLISH
VERSION:2.0
PRODID:-//Eventilla iCal Syndication//NONSGML Liana//EN
BEGIN:VEVENT
UID:a758X@eventilla.com
DTSTAMP:20260407T100000Z
DTSTART:20260407T100000Z
DTEND:20260521T110000Z
SUMMARY:Voimaa ja vireyttä arkeen
DESCRIPTION:Tervetuloa mukaan innostavaan ja monipuoliseen liikuntaryhmään! Ryhmä tarjoaa ohjattua liikuntaa erilaisissa arjen ympäristöissä.Toiminta on suunnattu ikäihmisille\, ja osallistuminen on maksutonta. Huomioithan\, että ryhmään tulee ilmoittautua etukäteen.\nOhjauksesta vastaa liikuntaneuvojaopiskelija.Viikot 15-21\, yhteensä 8 kertaa.\nAika: Tiistaisin klo 13.00-14.00 (Viimeisellä viikolla tiistain lisäksi torstaina klo 13.00-14.00) Paikka: vaihtuu teeman mukaan.
LOCATION:Naantalin kaupunki, Paikka vaihtuu teemoittain\, Kuparivuorentie
 5\, 21100\, Naantali\, Suomi
URL:http://ssl.eventilla.com/voimaajavireytta
END:VEVENT
END:VCALENDAR
