BEGIN:VCALENDAR
METHOD:PUBLISH
VERSION:2.0
PRODID:-//Eventilla iCal Syndication//NONSGML Liana//EN
BEGIN:VEVENT
UID:a7qX6@eventilla.com
DTSTAMP:20260617T111500Z
DTSTART:20260617T111500Z
DTEND:20260617T121500Z
SUMMARY:Vesityökorttitesti
DESCRIPTION:Vesityökortti on lainsäädännön mukaan oltava kaikilla niillä vesihuoltoalan työntekijöillä\, joiden työtehtävät voivat vaikuttaa talousveden laatuun.\nSuorita vesityökortti testitilaisuudessa. Vesityökortin uusimiseksi tehtävä osaamistesti sisältää kysymyksiä tärkeimmistä vesilaitostekniikkaan ja hygieniaan liittyvistä asioista. Hyväksytysti suoritettuun osaamistestiin kuuluu oikeiden vastausten läpikäynti. Testiin osallistujan kortti voi olla jo vanhentunut tai se on lähiaikoina vanhentumassa. Testin hyväksytysti suorittaneet saavat uuden Vesityökortin\, joka on voimassa seuraavat 5 vuotta. \nKenelle testi sopii?\nTämä testitilaisuus sopii sinulle\, jos työskentelet vesihuollon parissa ja olet aiemmin suorittanut Vesityökortti-koulutuksen \nTestiin osallistuminen edellyttää vahvaa tunnistautumista. Tunnistautumista varten tarvitset joko verkkopankkitunnukset tai mobiilivarmenteen. Jos et pysty tekemään vahvaa tunnistautumista\, ota meihin yhteyttä viimeistään 10 päivää ennen testin alkua.
LOCATION:Suomen ympäristöopisto SYKLI\, Esterinportti 1\, 00240\,
 Helsinki
URL:http://ssl.eventilla.com/event/a7qX6
END:VEVENT
END:VCALENDAR
