BEGIN:VCALENDAR
METHOD:PUBLISH
VERSION:2.0
PRODID:-//Eventilla iCal Syndication//NONSGML Liana//EN
BEGIN:VEVENT
UID:aoZ74@eventilla.com
DTSTAMP:20260205T160000Z
DTSTART:20260205T160000Z
DTEND:20260205T180000Z
SUMMARY:Elinvoimaohjelman työpaja
DESCRIPTION:Uusi kaupunkistrategia käytäntöön - Tule mukaan elinvoimaohjelman työpajoihin!\nNaantalin kaupunginvaltuusto hyväksyi 8.12.2025 uuden kaupunkistrategian\, jonka keskeiset tavoitteet liittyvät elinvoimaan\, toimiviin arjen palveluihin\, perheystävällisyyteen ja vastuulliseen toimintaa. Strategiaa viedään käytäntöön erilaisilla ohjelmilla\, joista yksi on elinvoimaohjelma.\nOlemme nyt laatimassa uutta elinvoimaohjelmaa\, joka sisältää myös aikaisemman saaristo-ohjelman. Elinvoimaohjelma on käytännönläheinen asiakirja\, jossa määritellään konkreettiset toimenpiteet strategian edistämiseksi. Nämä toimenpiteet otetaan huomioon tulevien vuosien talousarvioissa. Elinvoimaohjelmassa otetaan huomioon myös valtakunnallisen saariston kehittämisohjelman tavoitteet.\nSaariston työpaja järjestetään torstaina 5.2. klo 18 Naantalin kylpylän kokoustiloissa. Kaikki saariston asukkaat\, yrittäjät ja muut saariston kehittämisestä kiinnostuneet ovat tervetulleita työpajaan. Monipuoliset ja uudet näkökulmat elinkeinojen ja saariston kehittämiseksi ovat tärkeitä.\nIlmoittautumiset viimeistään 2.2.2026\nLisätietoja: Kehittämispäällikkö Tiina Rinne-Kylänpää (p. 040- 9000 866) tiina.rinne-kylanpaa@naantali.fi
LOCATION:Naantalin kylpylä\, Matkailijantie 2\, Naantali\, Suomi
URL:http://ssl.eventilla.com/elinvoima
END:VEVENT
END:VCALENDAR
