BEGIN:VCALENDAR
METHOD:PUBLISH
VERSION:2.0
PRODID:-//Eventilla iCal Syndication//NONSGML Liana//EN
BEGIN:VEVENT
UID:aowBG@eventilla.com
DTSTAMP:20260413T080000Z
DTSTART:20260413T080000Z
DTEND:20260504T084500Z
SUMMARY:Uinnin ABC (+Vire)
DESCRIPTION:Kurssi toteutetaan osallistujien toiveiden mukaan vaihtelevin teemoin. Harjoittelemme uinnin tekniikoita jokaisen oman taitotason mukaisesti. Maanantaisin neljä kertaa Aurinkosäätiön altaassa ajalla 13.4-4.5.26  klo 11.00-11.45. Vire-korttilaisille kurssi on maksuton. Muille kurssin hinta 10€. \n 
LOCATION:Aurinkosäätiö\, Myllykiventie 5\, 21100\, Naantali\, Suomi
URL:http://ssl.eventilla.com/uinninabc
END:VEVENT
END:VCALENDAR
