BEGIN:VCALENDAR
METHOD:PUBLISH
VERSION:2.0
PRODID:-//Eventilla iCal Syndication//NONSGML Liana//EN
BEGIN:VEVENT
UID:aq8da@eventilla.com
DTSTAMP:20220613T090000Z
DTSTART:20220613T090000Z
DTEND:20220614T110000Z
SUMMARY:The Nordic Road Construction Market Seminar
DESCRIPTION:Note! The seminar will unfortunately be moved to a later date\, due to the lack of participants. A new date for the seminar will be published in mid-June. Our apologies for the inconvenience! \n \nThe Nordic Road Association (NVF) working group Nordic Construction Market is arranging an open seminar on procurement and the Nordic market: What does the market look like? What is happening in the Nordic countries today and what is developing in each country?\nJoin the seminar to ﬁnd out!\nProgram\n1. Key ﬁgures on the Nordic Construction Market: Common ﬁgures for the whole Nordic region\, future plans 3-4 years ahead and investment volumes2. New procurement models: e.g. Best Value Procurement and Early Contractor Involvement3. Our changing world - How do we manage the current and future situation\, with regards to e.g.\, energy pricing\, availability of materials? Presentations from each country.4. Panel Discussions on: Key ﬁgures from the market and Our changing world\nPrice: 150€ which includes lunch and coffee both days.\nNote: Accomodation is not icluded in the price. Please reserve your accomodation yourself directly from a hotel of your choice. More info on the seminar and hotel alternatives can be found here: Seminar program (changes possible)
LOCATION:Sokos Hotel Presidentti\, Eteläinen Rautatiekatu 4\, 00100\,
 Helsinki\, Finland
URL:http://ssl.eventilla.com/event/aq8da
END:VEVENT
END:VCALENDAR
