BEGIN:VCALENDAR
METHOD:PUBLISH
VERSION:2.0
PRODID:-//Eventilla iCal Syndication//NONSGML Liana//EN
BEGIN:VEVENT
UID:bJ29W@eventilla.com
DTSTAMP:20230505T063000Z
DTSTART:20230505T063000Z
DTEND:20230505T141500Z
SUMMARY:Arkkitehtipäivät 2023
DESCRIPTION:Tervetuloa ilmoittautumaan Arkkitehtipäiville 5.–6.5.2023\n \nOsta lippusi seminaariin ja ekskursiolle maanantaihin 24.4. mennessä.\nArkkitehtipäivät järjestetään 5.–6.5.2023 Vantaalla. Pääseminaari pidetään perjantaina 5.5. klo 9.30–17.15 Backaksen kartanon Puimalassa\, josta siirrytään iltajuhliin tapahtumakeskus Flamingoon. \nLauantaina 6.5. on mahdollisuus osallistua Hesa-SAFAn ja Vantaan kaupungin järjestämään koko päivän Vantaa-ekskursioon. \nArkkitehtipäivien osallistujien suositellaan majoittuvan Sokos Hotel Flamingoon\, jonne on varattu kiintiö. Lisätietoja ja varauskoodi täällä. Kiintiöhinta on voimassa 6.4. asti.\nKoko ohjelman ja puhujaesittelyt näet täältä: safa.fi/arkkitehtipaivat.\nOhjeita\nLiput maksetaan heti. Maksu tehdään Paytrailin kautta. Organisaatiot voivat saada verkkolaskun.\nVoit ostaa kerralla useamman lipun. Arkkitehtipäivät-lippu sisältää koko perjantain ohjelman\, eikä siitä voi irrottaa eri ohjelmaosuuksia. \nSaat tilausvahvistuksen ja lipun sähköpostiisi. Voit muokata ilmoittamiasi tietoja lipunmyynnin sulkeutumiseen saakka.\nMaksaminen laskulla\nOrganisaatiot voivat ilmoittaa osallistujat ryhmänä ja saada verkkolaskun. Valmistaudu esittämään lomakkeessa yrityksen verkkolaskutustiedot ja y-tunnus. Valitettavasti paperi- tai sähköpostilaskutus ei ole mahdollista.\nIlmoitathan kaikki organisaation osallistujat yhdellä kertaa. \nHinnat\nArkkitehtipäivät 5.5.2023 – lippuLippuun sisältyy aamu- ja iltapäiväkahvit\, lounas sekä osallistuminen kaupungin vastaanottoon ja iltajuhlaan.\n\nSAFAn varsinaiset jäsenet ja eläkeläisjäsenet: 173\,60 € (sis. Alv 24 %)\nOpiskelijat\, perhevapaalaiset\, työttömät: 124 € (sis. Alv 24 %)\nMuut kuin SAFAn jäsenet: 248 € (sis. Alv 24 %)\n\nVantaa-ekskursio 6.5.2023 – lippuLippuun sisältyy lounas ja bussikuljetukset.\n\nKaikki osallistujat: 37 € (sis. Alv 24 %)\n\n \n \nLisätietoja: Pipsa Penttinen\, projektikoordinaattoripipsa.penttinen(a)safa.fi
LOCATION:Backaksen kartano, Puimala\, Ylästöntie 28\, 01510\, Vantaa\,
 Suomi
URL:http://ssl.eventilla.com/event/bJ29W
END:VEVENT
END:VCALENDAR
