BEGIN:VCALENDAR
METHOD:PUBLISH
VERSION:2.0
PRODID:-//Eventilla iCal Syndication//NONSGML Liana//EN
BEGIN:VEVENT
UID:bJ2QP@eventilla.com
DTSTAMP:20260602T093000Z
DTSTART:20260602T093000Z
DTEND:20260602T104500Z
SUMMARY:Paintball-retki
DESCRIPTION:Naantalin nuorisopalvelut järjestävät kesälomalla 2.6.2026 paintballretken. Pelit järjestetään Piikkiössä Huviluvan ulkoareenalla. Retken ikäraja 13 vuotta. Lähtö Rymättylän linja-autotallilta klo 11:15. Bussi pysähtyy Merimaskussa ja Naantalin keskustassa\, Tarvittaessa Velkualta järjestetään kyyti\, Merimaskun Salen pihalle. Paluu n. klo 14.30 Naantalin keskustaan. Naantalin saaristosta järjestetään kuljetus mikäli väh. 4 osallistujaa. \nRetken hinta 30 €\nTarkemmat tiedot lähetetään viikko ennen retkeä tekstiviestillä.\nRetki järjestetään mikäli osallistujia vähintään 10 henkilöä. 
LOCATION:Huvilupa
URL:http://ssl.eventilla.com/event/bJ2QP
END:VEVENT
END:VCALENDAR
