BEGIN:VCALENDAR
METHOD:PUBLISH
VERSION:2.0
PRODID:-//Eventilla iCal Syndication//NONSGML Liana//EN
BEGIN:VEVENT
UID:bJO64@eventilla.com
DTSTAMP:20230510T050000Z
DTSTART:20230510T050000Z
DTEND:20230511T120000Z
SUMMARY:Maanmittauspäivät 2023
DESCRIPTION:MAANMITTAUSPÄIVÄT 2023\nMaankäytön\, paikkatiedon\, toimitustuotannon ja kiinteistöarvioinnin huipputapahtuma!\n \nIlmoittautuminen \n\n\nEarlybird (voimassa 14.4.2023 asti): MIL jäsen 325 € + alv 24\, Ei jäsen 400 € +alv \n\n\nNormaalihinta (voimassa 15.4.–30.4.2023): MIL jäsen 400 € + alv 24\, Ei jäsen 475 € + alv\n\n\nJälki-ilmoittautuminen (voimassa 1.5.2023– ): 600 € + alv 24; ei erillistä jäsenhintaa\n\n\nEläkeläinen 200 € + alv 24 (koko ajan)\n\n\nOpiskelija 100 € + alv 24 (koko ajan)\n\n\nIlmoittautumisen yhteydessä voi maksaa suoraan luottokortilla tai verkkopankilla tai vaihtoehtoisesti ilmoittaa laskutustiedot (lasku lähetetään muutaman viikon sisällä ilmoittautumisesta).\nIlmoittautumismaksu sisältää osallistumisen Maanmittauspäivät 2023 tapahtumaan 10.–11.5.2023\, aamu- ja iltapäiväkahvit ja lounaat sekä tapahtumaan kuuluvan iltajuhlan.\n \nTapahtuman verkkosivut ja tiedot          Maanmittauspäivien 2023 alustava ohjelma
LOCATION:Tampere-talo\, Yliopistonkatu 55\, 33101\, Tampere
URL:http://ssl.eventilla.com/maanmittauspaivat_2023
END:VEVENT
END:VCALENDAR
