BEGIN:VCALENDAR
METHOD:PUBLISH
VERSION:2.0
PRODID:-//Eventilla iCal Syndication//NONSGML Liana//EN
BEGIN:VEVENT
UID:bMJ1A@eventilla.com
DTSTAMP:20260617T060000Z
DTSTART:20260617T060000Z
DTEND:20260617T121500Z
SUMMARY:Vesityökorttikoulutus
DESCRIPTION:Vesityökortti on lainsäädännön mukaan oltava kaikilla niillä vesihuoltoalan työntekijöillä\, joiden työtehtävät voivat vaikuttaa talousveden laatuun.\nVesityökorttikoulutuksessa käydään läpi STM:n asetuksen mukaisesti testissä vaadittavat osaamisalueet\, joita ovat:\n\nlainsäädännön tuntemus\,\nveden hankinta\,\nvedenkäsittely\,\nvesijohtoverkostot\,\nnäytteenotto ja talousveden laadun valvonta.\n\nOsaamistesti suoritetaan koulutuksen päätteeksi. Testin hyväksytysti suorittaneet saavat uuden Vesityökortin\,joka on voimassa seuraavat 5 vuotta. \nKoulutuksen kohderyhmä:\nKoulutus soveltuu kaikille vesihuoltoalan toimijoille vesihuoltolaitoksen henkilökunnasta aina urakoitsijoihin ja konsultteihin sekä LVI-asentajille ja kiinteistönhoitajille.\nKoulutukseen osallistuminen edellyttää vahvaa tunnistautumista. Tunnistautumista varten tarvitset joko verkkopankkitunnukset tai mobiilivarmenteen.\nKoulutuksen hintaan sisältyvät lounas ja kahvitukset.
LOCATION:Suomen ympäristöopisto SYKLI\, Esterinportti 1\, 00240\,
 Helsinki
URL:http://ssl.eventilla.com/event/bMJ1A
END:VEVENT
END:VCALENDAR
