BEGIN:VCALENDAR
METHOD:PUBLISH
VERSION:2.0
PRODID:-//Eventilla iCal Syndication//NONSGML Liana//EN
BEGIN:VEVENT
UID:bo2QW@eventilla.com
DTSTAMP:20250908T141500Z
DTSTART:20250908T141500Z
DTEND:20251006T151500Z
SUMMARY:Lasten/nuorten juoksukoulu Leppävaara 8.9.2025
DESCRIPTION:Ilmoittaudu mukaan Runner's High:n 8.9.2025 alkavaan Lasten ja nuorten juoksukouluun Espoon Leppävaaraan.\nLue tarkemmat kurssin tiedot Runner's High:n nettisivuilta.\nMaksutapoina on yleisimmät suomalaiset verkkopankit ja luottokortit sekä lasku. 
LOCATION:Leppävaaran urheilupuisto\, Veräjäpellonkatu 17\, 02650\,
 Espoo\, Suomi
URL:http://ssl.eventilla.com/lasten-ja-nuorten-juoksukoulu-leppavaara-8-9-2025
END:VEVENT
END:VCALENDAR
