BEGIN:VCALENDAR
METHOD:PUBLISH
VERSION:2.0
PRODID:-//Eventilla iCal Syndication//NONSGML Liana//EN
BEGIN:VEVENT
UID:bo7rX@eventilla.com
DTSTAMP:20241217T120000Z
DTSTART:20241217T120000Z
DTEND:20241217T140000Z
SUMMARY:LIVIND Research webinar
DESCRIPTION:What does it mean to put the 2030 Agenda for Sustainable Development and living heritage into practice at the national level or locally among heritage practitioners? Join the LIVIND webinar on December 17 to learn about the key insights our research team gathered throughout the project. During the event\, we will also present the research paper and the policy brief related to the project.\nLIVIND â€“ Creative and Living Cultural Heritage as a Resource for the Northern Dimension Region\, was led by the Finnish Heritage Agency and implemented in 2021-2024. The project aimed to identify and develop policies to strengthen the potential of creative and living cultural heritage to support sustainable development. It brought together stakeholders from public administration\, civil society\, and the private sector from nine countries in the Northern Dimension Region (Denmark (including Greenland and Faroe Islands)\, Estonia\, Finland (including Ă\nland Islands)\, Iceland\, Latvia\, Lithuania\, Norway\, Poland\, and Sweden)\, being the first of its kind in Northern Europe.Since the start of the project\, LIVIND included a research team to look analytically into how creative and living cultural heritage and sustainable development interlink\, to examine past experiences and best practices\, and to contribute to the planning and implementation of the project activities. The research team included the UNESCO Chair on Applied Studies of Intangible Cultural Heritage (University of Tartu\, Estonia) and the UNESCO Chair on Intangible Cultural Heritage Policy and Law (Latvian Academy of Culture\, Latvia).Â Research activities were conducted using various methods\, such as desk research (including the analysis of project documentation\, legal frameworks\, national contexts\, periodic reports submitted to the UNESCO by the States Parties)\, semi-structured interviews with project participants\, participant observation during online and on-site events\, and autoethnography. As a result\, the now-published research paper addresses the prevailing connection between creative and living cultural heritage and sustainable development in the Northern Dimension Region on the policy level\, in research\, and through concrete actions on the ground. The policy brief further elaborates on the possible ways to strengthen this interlinkage in the future. During the webinar\, you will also learn about the new website\, livind.fi\, which hosts a collection of materials created through the project\, including webinar recordings\, resources for workshop activities\, research results\, and\, on top of that\, a broad collection of ideas and experiences derived from the LIVIND pilot projects.\nÂ \nPlease register by 12th December at the button below.\nÂ \nPROGRAMME 17th Dec 2024Â  EET 2-4\, CET 1-3Â \n14.00 Welcome\, Leena Marsio\, Finnish Heritage Agency\n14.05 Foreword\, Maija Lummepuro\, Ministry of Education and Culture\, Finland\n14.15 LIVIND project â€“ short overview\, Elisa Kraatari\, project coordinator\, PhD\n14.25 Living Heritage and Sustainable Development â€“ an emerging research area\, Prof. Kristin Kuutma\, University of Tartu\, UNESCO ChairÂ \n14.50 Approaches at the state level â€“ periodic reports to UNESCO\, Assoc. Prof.Â Anita Vaivade/ Agnese Karlsone\, Latvian Academy of Culture\, UNESCO Chair\n15.05 Challenges and Solutions at the local level â€“ experiences from the LIVIND pilots\, Siarhiej Makarevich/ Kristi GrĂĽnberg\, University of Tartu15.30 Commentary\, Harriet Deacon\, researcher\, UNESCO facilitator15.45 Questions and Discussion16.00 End of the event\nÂ 
LOCATION:
URL:http://ssl.eventilla.com/livind_research
END:VEVENT
END:VCALENDAR
