BEGIN:VCALENDAR
METHOD:PUBLISH
VERSION:2.0
PRODID:-//Eventilla iCal Syndication//NONSGML Liana//EN
BEGIN:VEVENT
UID:boJB0@eventilla.com
DTSTAMP:20241126T070000Z
DTSTART:20241126T070000Z
DTEND:20250628T170000Z
SUMMARY:From Material to Market: The Art of Book-Making in Morocco
DESCRIPTION:As part of the Qatar-Morocco 2024 Year of Culture\, we’re thrilled to present an exhibition that delves into the rich tradition of book-making in the Maghrib.\nMoroccan book arts are among the oldest and longest enduring in the Islamic world\, with artisans playing a crucial role in preserving Islamic texts\, and shaping cultural and intellectual life across the region.\nThis exhibition traces the journey from local tanneries and papermills\, to the book-binder’s workshop in the medina where craftsmen would combine natural materials like leather\, paper and ink to create beautiful manuscripts. Central to the exhibition is the vibrant book market\, where raw materials are bought and finished books are sold\, a practice dating back hundreds of years.\n“From Material to Market: The Art of Book-Making in Morocco” showcases an impressive selection of books\, manuscripts\, lithographs and other treasures from the Heritage Library’s collection. We invite you to explore this centuries-old craft and immerse yourself in the rich cultural heritage of the Maghrib. Don’t miss this unique opportunity to explore the beauty and history behind every page!\nDate: 26 November 2024 to 28 June 2025 \nTime: During the Library's opening hours\nLanguage: Arabic and English \nTarget Audience: Public \nThis is an open event; RSVP is not required.
LOCATION:White cube gallery\, Qatar National Library, Education City, Al
 Luqta St\, Doha\, Qatar
URL:http://events.qnl.qa/event/boJB0
END:VEVENT
END:VCALENDAR
