BEGIN:VCALENDAR
METHOD:PUBLISH
VERSION:2.0
PRODID:-//Eventilla iCal Syndication//NONSGML Liana//EN
BEGIN:VEVENT
UID:boo5P@eventilla.com
DTSTAMP:20251105T070000Z
DTSTART:20251105T070000Z
DTEND:20251105T150000Z
SUMMARY:Solver X Helsinki 2025 Marraskuu
DESCRIPTION:\nSolver X Helsinki on Suomen suurin reverse pitching tapahtuma\, joka tarjoilee ennennäkemättömän kattauksen yritysten uusia kehityshankkeita\, joille ei ole vielä valittu toteuttajaa.Solver X on vallankumouksellinen teknologiatapahtuma\, jossa esitellään yritysten digitaalisia kehitysideoita ja etsitään näihin parhaita toteuttajia. Vuoden tärkeimmässä myyntitapahtumassa lavalla ei kuulla palveluntarjoajien edellisiä toteutuksia\, vaan valokeilassa yritykset etsivät kumppaneita täysin uusiin projekteihin. Yhden päivän aikana\, neljällä päälavalla etsitään toteuttajia uusiin digitaalisiin projekteihin ja hankkeisiin.  \nVarmista paikkasi nyt\, lippuja on rajoitetusti.**\n"Erittäin hyvä konsepti asiakkaan\, mutta myös toimittajan näkökulmasta. Nyt asiakkaat ovat joutuneet sanoittamaan tarpeensa selkemmäksi ja siihen on helpompi tarttua ratkaisu edellä."\n"Paras myyntitapahtuma pitkään aikaan\, liput ostettu jo seuraavaan tapahtumaan."\n"Satoja messuja ja konferensseja kiertäneenä tämä oli myynnillisesti paras tapahtuma missä olen ikinä ollut. Uusi lähestymistapa todellakin kannatti\, ensi tapahtumassa nähdään!"\n"Raikas uusi tapahtumaformaatti\, tervetullut Suomeen."
LOCATION:Wanha Satama - Helsinki\, Pikku Satamakatu 3-5\, 00160\,
 Helsinki\, Suomi
URL:http://ssl.eventilla.com/event/boo5P
END:VEVENT
END:VCALENDAR
