BEGIN:VCALENDAR
METHOD:PUBLISH
VERSION:2.0
PRODID:-//Eventilla iCal Syndication//NONSGML Liana//EN
BEGIN:VEVENT
UID:boq37@eventilla.com
DTSTAMP:20260706T070000Z
DTSTART:20260706T070000Z
DTEND:20260708T113000Z
SUMMARY:Teatterileiri
DESCRIPTION:Teatterileiri yli 9-vuotiaille Aahollissa ja lähiympäristössä Rymättylässä ma-ke 6.-8.7. klo 10-14.30.\nTeatteri-ilmaisua\, leikkejä\, ulkoilua\, uintia ja ilonpitoa. Toiminta tapahtuu pääasiassa ulkona. Hinta naantalilaisille 35 € sis. toiminnan\, lounaan ja vakuutuksen. Ohjaajana teatteri-ilmaisun ohjaaja Teija Söderholm. Max. 16 osallistujaa. \nIlmoittautuminen on sitova\, maksu palautetaan vain sairastapauksissa.
LOCATION:Aaholli\, Kirjalan kirkkotie 2\, 2110\, Rymättylä\, Suomi
URL:http://ssl.eventilla.com/teatterileirikesa26
END:VEVENT
END:VCALENDAR
