BEGIN:VCALENDAR
METHOD:PUBLISH
VERSION:2.0
PRODID:-//Eventilla iCal Syndication//NONSGML Liana//EN
BEGIN:VEVENT
UID:bow2O@eventilla.com
DTSTAMP:20260602T060000Z
DTSTART:20260602T060000Z
DTEND:20260618T113000Z
SUMMARY:Digitaitokurssi seniori-ikäisille 3\, Järvenpää
LOCATION:STEP-kansanopisto\, Järvenpääntie 640\, 04400\, Järvenpää\,
 Suomi
URL:http://ssl.eventilla.com/event/bow2O
END:VEVENT
END:VCALENDAR
