BEGIN:VCALENDAR
METHOD:PUBLISH
VERSION:2.0
PRODID:-//Eventilla iCal Syndication//NONSGML Liana//EN
BEGIN:VEVENT
UID:d418e@eventilla.com
DTSTAMP:20241108T073000Z
DTSTART:20241108T073000Z
DTEND:20241108T083000Z
SUMMARY:Kontakta frukost Stockholm: 100% mänsklig i kundkontakten – tack vare AI
DESCRIPTION:100% mänsklig i kundkontakten – tack vare AI\n \nDen tekniska utvecklingen för kundserviceverksamheter går i ett rasande tempo och alla vill med på AI-tåget. Men alldeles oavsett ny teknik så vill konsumenter ha personlig service av levande människor\, om de får välja. I denna frukost får du inspiration om hur du väljer rätt i AI- och teknikdjungeln för att skapa effektiva kundmöten människor emellan.\nVälkommen till detta frukostmöte där Customer First delar med sig av erfarenheter och nya perspektiv på hur Artificiell Intelligens bäst används för att hjälpa kundservicemedarbetare att vid varje tillfälle leverera helt enastående\, varmt mänskliga kundupplevelser. Istället för att medarbetarna ska ödsla tid på komplicerade system och leta information\, något som vare sig bidrar till kvalitet i samtalet eller kostnadseffektivitet.Du får med dig:- Ett nytt perspektiv på vilken roll AI kommer ha i framtida kundservice- Förståelse för vilka steg du bör ta för nå dit- Inspiration från andra som arbetar med AINi möter Stefan Berg\, VD på Customer First\, som har många års erfarenhet av kontakt centers och teknik för kundservice i stor skala\, inspirera till nya sätt att resonera kring och skapa värde med AI.\n\n\n\nPraktiska detaljer:\n\n\nDatum:\n8 november\n\n\nTid:\nKl.08:30-09:30 med inledande frukost kl.08:00\n\n\nPlats:\nScandic Klara\, Slöjdgatan 7\, 111 57 Stockholm\n\n\nVillkor:\nMax 3 från varje företag eller verksamhet pga begränsat antal platser.\n\n\nKostnad:\nKostnadsfritt och öppet för alla.(Vid avbokning senare än 48 timmar debiteras 500 kr för att täcka Kontaktas omkostnader.)\n\n\nKontakt:\nMadeleine von Krusenstierna\, info@kontakta.se alt 073 954 68 03\n\n\n\nVälkommen!\n 
LOCATION:Scandic Klara\, Slöjdgatan 7\, 111 57\, Stockholm
URL:http://ssl.eventilla.com/event/d418e
END:VEVENT
END:VCALENDAR
