BEGIN:VCALENDAR
METHOD:PUBLISH
VERSION:2.0
PRODID:-//Eventilla iCal Syndication//NONSGML Liana//EN
BEGIN:VEVENT
UID:dM1Nq@eventilla.com
DTSTAMP:20260601T070000Z
DTSTART:20260601T070000Z
DTEND:20260601T130000Z
SUMMARY:ElÃ¤vÃ¤ perintÃ¶ ja suojelun keinot â€“ Unescosta vauhtia
DESCRIPTION:ElÃ¤vÃ¤ perintÃ¶ ja suojelun keinot â€“ Unescosta vauhtiaSeminaari 1.6.2026 klo 10-16Museovirasto\, Hakaniemenranta 6\, Helsinki\nMitÃ¤ elÃ¤vÃ¤n kulttuuriperinnÃ¶n suojelu tarkoittaa\, miten sitÃ¤ tehdÃ¤Ã¤n yhteisÃ¶lÃ¤htÃ¶isesti ja millaisia tyÃ¶kaluja on tarjolla? EntÃ¤ miten Unescon luetteloihin voi hakea? NÃ¤ihin kysymyksiin syvennytÃ¤Ã¤n Museoviraston kesÃ¤kuisessa seminaaripÃ¤ivÃ¤ssÃ¤\, joka kokoaa yhteen elÃ¤vÃ¤n kulttuuriperinnÃ¶n toimijoita.\nAamupÃ¤ivÃ¤n ohjelmassa kuullaan asiantuntijapuheenvuoroja elÃ¤vÃ¤n perinnÃ¶n suojelusta ja siitÃ¤\, miten Unescon aineettoman kulttuuriperinnÃ¶n luetteloihin haetaan. LisÃ¤ksi jÃ¤rjestetÃ¤Ã¤n paneelikeskustelu\, jossa Suomen nykyiset Unesco-kohteet jakavat kokemuksiaan hakuprosesseista ja suojelutyÃ¶stÃ¤.\nIltapÃ¤ivÃ¤llÃ¤ osallistujat pÃ¤Ã¤sevÃ¤t tyÃ¶skentelemÃ¤Ã¤n omien suojelusuunnitelmiensa parissa uusien Belgiassa kehitettyjen tyÃ¶pajapohjien avulla. PÃ¤ivÃ¤n aikana jaamme myÃ¶s muita syksyn kansainvÃ¤lisen Unesco-kurssin oppeja. Â TyÃ¶pajoissa opetellaan tunnistamaan ja tarkentamaan suojelutarpeita sekÃ¤ kehittÃ¤mÃ¤Ã¤n toimenpiteitÃ¤\, jotka vahvistavat perinteen elinvoimaisuutta pitkÃ¤llÃ¤ aikavÃ¤lillÃ¤. Osallistujat saavat mukaansa kÃ¤ytÃ¤nnÃ¶n tyÃ¶kaluja omaan tyÃ¶hÃ¶n.\nSeuraava ja jÃ¤rjestyksessÃ¤Ã¤n vasta toinen hakukierros Unescon aineettoman kulttuuriperinnÃ¶n luetteloihin jÃ¤rjestetÃ¤Ã¤n Suomessa syksyllÃ¤ 2026. Haun painopisteenÃ¤ ovat hyvÃ¤t suojelukÃ¤ytÃ¤nnÃ¶t. Seminaarissa kuulet lisÃ¤Ã¤ prosessista ja hakukriteereistÃ¤.\nSeminaari on suunnattu kaikille elÃ¤vÃ¤n kulttuuriperinnÃ¶n parissa toimiville: perinteen harjoittajille\, yhdistysaktiiveille\, museo- ja arkistoalan ammattilaisille\, tutkijoille sekÃ¤ opetuksen ja koulutuksen parissa tyÃ¶skenteleville. AamupÃ¤ivÃ¤n ohjelmaan voit osallistua myÃ¶s etÃ¤yhteydellÃ¤.\nIlmoittaudu alla olevasta painikkeesta viimeistÃ¤Ã¤n 22.5.2026.\nOHJELMA\n10.00 Tervetuloa! Kimmo LevÃ¤\, pÃ¤Ã¤johtaja\, Museovirasto\n10.15 ElÃ¤vÃ¤n perinnÃ¶n suojelu\, Leena Marsio Museovirasto ja Matti HakamÃ¤ki\, Kansanmusiikki-instituutti/ Unesco-kouluttaja- MitÃ¤ on elÃ¤vÃ¤n perinnÃ¶n suojeleminen- Miten rakentaa suojeluohjelma- NÃ¤kyvyyttÃ¤ hyville kÃ¤ytÃ¤nnÃ¶ille- Haku Unescon luetteloihin syksyllÃ¤ 2026\n11.00 Paneelikeskustelu: Suomen Unesco-kohteet\nÂ·Â  Â  - Saunomisperinne\, Pekka Paasonen\, Saunamestari Kilta- Kaustislainen viulunsoitto\, Matti HakamÃ¤ki\, Kansanmusiikki-instituutti- Pohjoismainen limisaumaveneperinne\, Henrik Norri\, PuuveneveistÃ¤jÃ¤t ry- KÃ¤sin valmistettuun lasiin liittyvÃ¤ tietotaito\, Hanna Mamia-Walther\, Suomen lasimuseo- Lippokalastus Tornionjoella\, Markku Vaaraniemi\, kalastaja\n12.00 Lounastauko (omakustanteinen)\n13.00 Ohjeistus tyÃ¶pajatyÃ¶skentelyyn pienryhmissÃ¤\n14.30 IltapÃ¤ivÃ¤kahvit - tyÃ¶pajailu jatkuu\n15.30 yhteenveto ja keskustelua\n16.00 SeminaaripÃ¤ivÃ¤ pÃ¤Ã¤ttyy\nÂ \nKuva: Krenkkujen rakennusta Tornionjoella. Kuvaaja Ã\nsa Pesula.
LOCATION:Hakaniemenranta 6\, 02660\, Espoo\, Suomi
URL:http://ssl.eventilla.com/vauhtiaunescosta
END:VEVENT
END:VCALENDAR
