BEGIN:VCALENDAR
METHOD:PUBLISH
VERSION:2.0
PRODID:-//Eventilla iCal Syndication//NONSGML Liana//EN
BEGIN:VEVENT
UID:eK74J@eventilla.com
DTSTAMP:20240125T070000Z
DTSTART:20240125T070000Z
DTEND:20240126T140000Z
SUMMARY:Viemäreiden kuntotutkija - koulutus 25.1. - 26.1.2024
DESCRIPTION:Kurssi on tarkoitettu viemäreiden kuntotutkimuksia tekeville sekä tutkimustuloksia tulkitseville henkilöillle\, kuten suunnittelijoille\, konsulteille ja vesihuoltolaitosten viemäritutkimuksia tilaaville. Koulutus sopii myös niille\, joilla on voimassa oleva FiSTT -kuvaajakortti.\nViemäreiden kuntotutkija-koulutus on tarpeen\, koska vuonna 2021 on julkaistu uusi ohje "Viemäreiden kunnon tutkiminen- Visuaaliset tutkimusmenetelmät". Uusi ohje korvaa vanhat "Viemäreiden TV-kuvauksen tulkintaohje" ja "Viemärikaivojen kuntotutkimus-ohje"-julkaisut.\nKoulutusohjelma sisältää mm. seuraavaa: \n\nTyöturvallisuus\, viemäreiden ominaisuudet ja hyvä rakennustapa sekä valmistelevat työt\nKaivon kunnon yleispiirteinen tutkiminen ja raportointi\nKaivon kunnon kattava tutkiminen ja raportointi\nViemäreiden yleispiirteinen kunnon tutkiminen ja raportointi\nSuurikokoiset viemärit\, tunnelit\, savu-ja väriainekokeet\nHavaintojen tulkinnan soveltaminen uudisrakennus-ja saneerauskohteissa\nVerkkotentti(teoriakoe)\nVideotentti\n\nViemäreiden kuntotutkijan kaksipäiväinen koulutus pidetään lähikoulutuksena to-pe 25.1.-26.1.2024 Riihimäellä\, Syklin toimipisteessä.  \nIlmoittaudu koulutukseen viimeistään perjantaina 18.1.2024 mennessä.\nKouluttajat\nKouluttajina toimivat FiSTT pätevöityneet kuntotutkimusjaoston kouluttajat. Tilaisuuden koordinaattorina toimii vesihuollon asiantuntija Risto Ponto Syklistä. \nKoulutuksen hinta\nKuntotukijakoulutuksen hinta on 575 €  (alv. 0%)\, sisältäen lounaan ja kahvitarjoilun.\nKurssimateriaalina käytettävän kirjasen voi hankkia Vesilaitosyhdistyksen verkkokaupasta\,\njulkaisu on maksuton VVY:n jäsenille.\n \nLisätietoja:\nRisto PontoVesihuollon asiantuntija\, kouluttajaVesihuolto050 387 9555risto.ponto@sykli.fi\nTervetuloa mukaan koulutukseen\,\nSYKLI ja FiSTT\n \n           
LOCATION:Suomen ympäristöopisto SYKLI\, Kaartokatu 2\, 11100\,
 Riihimäki
URL:http://ssl.eventilla.com/viemareidenkuntotutkija-riihimaki-25-1-26-1-2024
END:VEVENT
END:VCALENDAR
