BEGIN:VCALENDAR
METHOD:PUBLISH
VERSION:2.0
PRODID:-//Eventilla iCal Syndication//NONSGML Liana//EN
BEGIN:VEVENT
UID:edGwJ@eventilla.com
DTSTAMP:20260324T073000Z
DTSTART:20260324T073000Z
DTEND:20260324T090000Z
SUMMARY:Osakeyhtiön purkaminen – menettely ja verosuunnittelu
DESCRIPTION:Osakeyhtiön purkaminen – menettely ja verosuunnittelu\n24.3.2026 Webinaari\n\n\n\n\nOnko aika arvioida yrityksesi tulevaisuutta? Tässä koulutuksessa perehdytään osakeyhtiön purkamiseen ja sen verovaikutuksiin. Saat asiantuntevaa tietoa ja käytännönläheisiä vastauksia tilanteisiin\, joissa yhtiön jatko\, myynti tai purkaminen on harkinnassa.\nOsakeyhtiön toiminta voi tulla tiensä päähän esimerkiksi omistajien ikääntymisen\, toiminnan kannattamattomuuden tai liiketoiminnan myynnin seurauksena. Mikäli yhtiötä ei ole mahdollista myydä\, tulee harkittavaksi sen purkaminen.\nKoulutuksessa käsitellään selvitystilamenettelyn vaiheet selvitysmiehen valinnasta velkojen maksamiseen ja varojen jakamiseen. Lisäksi käydään läpi yhtiön purkamisen yhtiöoikeudellinen menettely sekä siihen liittyvät veroseuraamukset sekä yhtiön että osakkaiden kannalta.\nKoulutuksen tallenne on käytössäsi kuukauden ajan!\nOHJELMA\nTilannekartoitus\n\nVoidaanko yhtiö myydä?\nKannattaako yhtiö jättää sijoitusyhtiöksi ja nostaa vuosittain osinkoa?\nRiittävätkö yhtiön varat kattamaan sen velat vai tuleeko yhtiö hakea konkurssiin?\nOnko yhtiö velkaa osakkailleen\, mitä näille veloille voidaan tehdä?\n\nYhtiön purkaminen selvitystilan kautta\n\nSelvitystilaan asettaminen\nSelvitysmiehen valinta\nOsakeyhtiölain edellyttämien selvitystoimien sisältö\nVelkojen maksaminen ja jako-osuuden tilittäminen osakkaille\n\nYhtiön purkamisen veroseuraamukset\n\nPurettavan yhtiön viimeisen verovuoden verotus\, mitä yhtiölle tuloutuu?\nValintatilanteita\, myydäänkö kaikki vai siirretäänkö joitakin omaisuuseriä osakkaille?\nArvonlisäverotus ja varainsiirtoverotus\nOsakkaalle syntyvät tuloveroseuraamukset yhtiön purkautuessa\nKonkurssin merkitys osakkeenomistajan tai velkojan kannalta\n\nKenelle suunnattu\nKoulutus on suunnattu asianajajille\, lakimiehille\, tilitoimistoille\, velkojille ja yrittäjille.\nLuennoitsija\nAsianajaja\, Head of Tax Torsti Lakari\, Eversheds Asianajotoimisto Oy \nAikataulu\nLuentoaika klo 9.30 – 11.00\nOsallistuminen webinaariin on helppoa millä tahansa laitteella\, jossa on internet-yhteys ja kaiuttimet. Kirjallinen kurssimateriaali\, osallistumislinkki ja ohjeet yhteyden avaamista varten lähetetään etukäteen sähköpostitse.\nSaat koulutuksen jälkeen tallenteen webinaarista. Tallenne on katsottavissa kuukauden ajan.\nHinta\nVeronmaksajien jäsenille 220 € + alv\, muille 265 € + alv\nEikö yrityksesi ole vielä jäsen? \nLiity jäseneksi tästä\, saat edun heti käyttöösi.\n\n\nAA\, VT\, KTM Torsti Lakari on erityisesti verotukseen ja yhtiöoikeuteen erikoistunut asianajaja. Hänellä on runsaasti kokemusta perheyritysten ja muiden pk-sektorin yritysten avustamisesta verotukseen ja perhevarallisuuden suunnitteluun liittyvissä järjestelyissä. Lakari on kokenut luennoitsija ja hän on kirjoittanut lukuisia artikkeleita ja kirjoja mm. yritysten sukupolvenvaihdoksista ja säätiöistä. \n\n\n\n\n \n 
LOCATION:Webinaari
URL:http://ssl.eventilla.com/event/edGwJ
END:VEVENT
END:VCALENDAR
