BEGIN:VCALENDAR
METHOD:PUBLISH
VERSION:2.0
PRODID:-//Eventilla iCal Syndication//NONSGML Liana//EN
BEGIN:VEVENT
UID:edRB6@eventilla.com
DTSTAMP:20260608T050000Z
DTSTART:20260608T050000Z
DTEND:20260611T130000Z
SUMMARY:Salorannan päiväleiri 2015-2016 syntyneille lapsille
DESCRIPTION:Salorannan päiväleiri on tarkoitettu naantalilaisille 2015-2016 syntyneille lapsille. Kerhopaikkana toimii Salorannan leirikeskus. Saloranta\nKerhohintaan 65€ sisältyy matkat\, ohjaus\, tarvikkeet\, lounas\, välipala sekä vakuutus. Leirin ohjaajina toimivat kaupungin koulunkäynninohjaajat.\nSalorannassa on mahdollista erilaisten ohjaustuokioiden lisäksi onkia sekä saunoa ja uida. Tämän vuoksi olisi tärkeää\, että lapsesi osaa uida. \nPäiväleirille otetaan 40 lasta ilmoittautumisjärjestyksessä.  Linja-auto lähtee klo 8.00 Aurinkotien linja-autopysäkiltä Terveyskeskuksen edestä ja paluu on samaan paikkaan noin klo 16.00. \nIlmoittautuminen alkaa 12.3.2025 klo 17.00. Ilmoittautuminen on sitova ja se maksetaan heti ilmoittautumisen yhteydessä. Päiväleiriä koskeva leirikirje missä lisätietoja lähetetään viimeistään toukokuun viimeisellä viikolla. Ilmoittautuminen päättyy torstaina 14.5.2026. \nLisätietoja:\nJari-Pekka Ahovaara \n0408232272etunimi.sukunimi@naantali.fi\n 
LOCATION:Salorannan nuorisoleirialue\, Vehotniementie 99\, 21130\,
 Naantali\, Suomi
URL:http://ssl.eventilla.com/event/edRB6
END:VEVENT
END:VCALENDAR
