BEGIN:VCALENDAR
METHOD:PUBLISH
VERSION:2.0
PRODID:-//Eventilla iCal Syndication//NONSGML Liana//EN
BEGIN:VEVENT
UID:edRw8@eventilla.com
DTSTAMP:20260412T053000Z
DTSTART:20260412T053000Z
DTEND:20260412T130000Z
SUMMARY:Ensiavun jatkokurssi 8h
DESCRIPTION: \n 
LOCATION:Inarin kunta / yhteisötila Kultapiisku\, Piiskuntie 5\, 99800\,
 Ivalo
URL:http://ssl.eventilla.com/event/edRw8
END:VEVENT
END:VCALENDAR
