BEGIN:VCALENDAR
METHOD:PUBLISH
VERSION:2.0
PRODID:-//Eventilla iCal Syndication//NONSGML Liana//EN
BEGIN:VEVENT
UID:edglB@eventilla.com
DTSTAMP:20260409T053000Z
DTSTART:20260409T053000Z
DTEND:20260409T073000Z
SUMMARY:Kulttuurikierros\, Helsinki 9.4.2026: Kulttuuri ja luovat alat elinkeinopolitiikan ytimeen
DESCRIPTION:Kulttuuripoliittisen selonteon toimeenpanon käynnistämiseksi opetus- ja kulttuuriministeriö järjestää maalis–huhtikuussa valtakunnallisen Kulttuurikierroksen. Kierroksen tavoitteena on koota yhteen laaja joukko toimijoita keskustelemaan toimeenpanosta\, tunnistamaan yhteisiä painopisteitä ja vahvistamaan yhteistyötä.\nYhteistyössä Luovat ry:n ja Tapahtumateollisuuden kanssa järjestettävä tilaisuus keskittyy kulttuurin elinkeinopoliittiseen ulottuvuuteen ja luovan talouden kasvustrategian toimenpiteisiin. Tutustu tarkemmin kulttuuripoliittisen selonteon toimeenpanosuunnitelmaan. \nIlmoittaudu tästä \nOhjelma\nPaikka: Säätytalo\, sali 3\, Snellmaninkatu 9-11HUOM! Varaa mukaasi kuvallinen henkilöllisyystodistus\, vain ilmoittautuneet pääsevät sisään.Tilaisuuden juontaa Vappu Aura\, Luovat ry.\n8.30. Saapuminen\, kahvit ja verkostoitumista\n9.00–9.20 Avaus: Kulttuuripoliittisen selonteon toimeenpano ja ajankohtaiset painopisteetYlijohtaja Juha Rintamäki\, opetus- ja kulttuuriministeriö9.20–9.30 Luovan talouden kasvustrategia osana kulttuurin menestystäkulttuuriasiainneuvos Laura Mäkelä\, Opetus- ja kulttuuriministeriö\n9.30-9.40 Miten Luovan talouden kasvua viedään käytäntöön? Luovan talouden neuvottelukunnan jäsenetSami Kerman\, toiminnanjohtaja TapahtumateollisuusJari Muikku\, toiminnanjohtaja\, Suomen Musiikkikustantajat\n9.40-10.30 Yhteinen missio – Selonteon ja kasvustrategian vaikuttava toimeenpano.Paneeli- ja yleisökeskustelu\, moderaattorina Vappu Aura. Paneelissa:\n\nJuha Rintamäki\, opetus- ja kulttuuriministeriö\nMirva Merimaa\, toimitusjohtaja\, Tiketti Oy\nMatti Numminen\, toiminnanjohtaja\, Audiovisuaalisen alan tekijät ry\nRiku Salomaa\, toimitusjohtaja\, Nordic Music Partners Oy\nKaisa Paavolainen\, toimitusjohtaja\, Suomen Teatterit ry\n\nKlo 10.30 Tilaisuus päättyy\n\n 
LOCATION:Säätytalo, sali 3\, Snellmaninkatu 9-11\, 00170\, Helsinki\,
 Finland
URL:http://ssl.eventilla.com/kulttuurikierros09042026
END:VEVENT
END:VCALENDAR
