BEGIN:VCALENDAR
METHOD:PUBLISH
VERSION:2.0
PRODID:-//Eventilla iCal Syndication//NONSGML Liana//EN
BEGIN:VEVENT
UID:g9DYo@eventilla.com
DTSTAMP:20260506T060000Z
DTSTART:20260506T060000Z
DTEND:20260506T073000Z
SUMMARY:SHLL:n jäsenkoulutus: Huolitsija maahantuojan ja Tullin välissä – oikeudet\, velvollisuudet ja oikeusturva
DESCRIPTION:Suomen Huolinta- ja Logistiikkaliitto ry järjestää jäsenilleen koulutuksen\, jossa tarkastellaan huolitsijan asemaa ja vastuuta maahantuojan ja Tullin välissä. Koulutus tarjoaa ajankohtaista ja käytännönläheistä juridista näkökulmaa huolinta-alan toimijoille.Aika: keskiviikko 6.5.2026 klo 9.00–10.30Paikka: TeamsKouluttaja: Jouni Weckström\, asianajaja\, Weckström Asianajotoimisto Oy\, Weckström Attorneys Koulutuksessa käsitellään muun muassa:\n\nhuolitsijan rooleja ja vastuita eri tilanteissa\nvastuurelaatioita maahantuojan\, huolitsijan ja viranomaisten välillä\nkeskeistä säännöspohjaa ja tullivelvollisuuksia\nhuolitsijan oikeusturvaa käytännön näkökulmasta\n\nTärkeää tietoa osallistujille:\n\nTilaisuus on maksuton.\nIlmoittautuminen päättyy maanantaina 4.5. klo 17.00.\nIlmoittautuneille lähetetään keskiviikkona 5.5. Teams-linkki.\nHuom! Webinaaria ei tallenneta.\nMuutokset ohjelmaan mahdollisia.\nVarmistathan ilmoittautumisen jälkeen\, että saat vahvistusviestin sähköpostiisi.\nMahdollisissa kysymyksissä ota yhteyttä: office(at)huolintaliitto.fi\n\nLämpimästi tervetuloa mukaan!
LOCATION:Teams
URL:http://ssl.eventilla.com/shll_tullausvastuu
END:VEVENT
END:VCALENDAR
