BEGIN:VCALENDAR
METHOD:PUBLISH
VERSION:2.0
PRODID:-//Eventilla iCal Syndication//NONSGML Liana//EN
BEGIN:VEVENT
UID:g9oPM@eventilla.com
DTSTAMP:20261015T053000Z
DTSTART:20261015T053000Z
DTEND:20261015T130000Z
SUMMARY:Turvallisuusneuvonantajan täydennyskoulutus
DESCRIPTION:Turvallisuusneuvonantajan täydennyskoulutus \nLainsäädäntö edellyttää\, että vaarallisia aineita lähettävät\, lastaavat\, kuljettavat tai vastaanottavat toiminnanharjoittajat nimeävät turvallisuusneuvonantajan (TNA) koordinoimaan ja valvomaan toimintaa.\nTämä täydennyskoulutus on tarkoitettu turvallisuusneuvonantajille\, joiden pätevyys on voimassa ja jotka haluavat päivittää tietonsa ja vahvistaa käytännön osaamistaan ennen uusintakoetta.\nKoulutuksessa käsitellään:\n\n     Uusimmat lainsäädäntö- ja säädösmuutokset (ADR\, VAK)\n     Turvallisuusneuvonantajan käytännön tehtävät ja vastuut  yrityksessä\n     Riskienhallinta\, omavalvonta ja onnettomuuksien ehkäisy\n\nsekä tehdään harjoitustehtäviä\, jotka auttavat valmistautumaan uusintakokeeseen.\nKoulutus tarjoaa myös mahdollisuuden verkostoitua muiden turvallisuusneuvonantajien kanssa ja vaihtaa kokemuksia käytännön haasteista.\n \n \n 
LOCATION:Skyline Airport Hotel\, Elannontie 9\, 01510\, Vantaa\, Suomi
URL:http://ssl.eventilla.com/event/g9oPM
END:VEVENT
END:VCALENDAR
