BEGIN:VCALENDAR
METHOD:PUBLISH
VERSION:2.0
PRODID:-//Eventilla iCal Syndication//NONSGML Liana//EN
BEGIN:VEVENT
UID:geLMV@eventilla.com
DTSTAMP:20240416T210000Z
DTSTART:20240416T210000Z
DTEND:20240416T220000Z
SUMMARY:Lahjakorttitilaus
DESCRIPTION:Hanki Skydive Finland ry:n lahjakortti!\nVoit hankkia Skydive Finland ry:n laskuvarjohypyille lahjakortin\, joka on voimassa yhden (1) vuoden ostopäivästä. Huomioithan\, että hyppykausi on toukokuusta syyskuuhun. Vaikka lahjakortti on voimassa vuoden ostopäivästä\, on se käytettävä hyppykauden (touko-syyskuu) aikana. HUOM! Ei riitä\, että ajanvaraus tehdään lahjakortin voimassaoloaikana vaan hyppykurssi on käytävä ennen lahjakortin voimassaoloajan umpeutumista. \nLahjakortti on hyvä vaihtoehto erityisesti silloin\, kun tulevan hyppääjän merkkipäivä osuu varsinaisen kauden ulkopuolelle. Lahjakortin saaja voi lahjan saatuaan varata itse ajan kurssille. Lahjakortti käy maksuvälineenä sekä NOVA- että tandemhyppykursseille\, arvolahjakortit myös oppilas- ja kelpparihyppyihin. Skydive Finland ry:n hyppytoiminta tapahtuu Utissa. Lahjakorttia hankittaessa kannattaa huomioida hyppäämiselle asetetut vaatimukset koskien muun muassa hyppääjän terveydentilaa sekä kokoa (max. 100kg). Palautamme voimassaolevan lahjakortin maksun vain painavasta syystä. Painavaksi syyksi emme katso kortin vanhenemista tai sitä\, että hyppääjä ei ole ottanut yhteyttä varatakseen aikaa riittävän aktiivisesti\, tai sitä että hyppykausi on jo ohi ensimmäistä kertaa varausta tehdessä. Palautusta tehdessä veloitamme toimistomaksun 20 euroa. Tutustu tarkemmin lahjakortin ja kurssien toimitusehtoihin. \nTilauslomakkeen kenttiin tulee maksajan tiedot johon lahjakortti toimitetaan. Lahjakortit ovat nimeämättömiä. Tunnistamme lahjakortit niiden koodin perusteella. Hinta sisältää arvonlisäveron.\nToimitamme lahjakortit ilmoittamaasi sähköpostiosoitteeseen muutaman minuutin kuluessa tilauksesta. Mikäli et jostain syystä saa sähköpostiisi vahvistusviestiä ja linkkiä tilaamaasi lahjakortiin\, voit olla yhteydessä meihin info@skydivefinland.fi\n\nArvolahjakortti 100 - 100.00 EUR sis. ALV\nArvolahjakortti 200 - 200.00 EUR sis. ALV\nArvolahjakortti 300 - 300.00 EUR sis. ALV\nTANDEM lahjakortti kuvauksella - 410.00 EUR sis. ALV\nTANDEM lahjakortti ilman kuvausta - 395.00 EUR sis. ALV\nNOVA PERUS alkeiskurssi (Sisältää vuotuisen jäsen- ja liittymismaksun\, kurssin\, n. 7 minuuttia lentoaikaa tuulitunnelissa ja ensimmäisen tasohypyn) - 625.00 EUR sis. ALV\nNOVA PLUS alkeiskurssi (Sisältää vuotuisen jäsen- ja liittymismaksun\, kurssin\, n. 7 minuuttia lentoaikaa tuulitunnelissa ja seitsemän tasohyppyä). - 1\,525.00 EUR sis. ALV\nNOVA EXTRA alkeiskurssi (Sisältää vuotuisen jäsen- ja liittymismaksun\, kurssin\, n. 7 minuuttia lentoaikaa tuulitunnelissa ja kaikki NOVA-koulutusohjelman hypyt). - 2\,495.00 EUR sis. ALV\n\n
LOCATION:Skydive Finland\, Lentoportintie 85\, 45410\, Utti\, Suomi
URL:http://ssl.eventilla.com/sdflahjakortit
END:VEVENT
END:VCALENDAR
