BEGIN:VCALENDAR
METHOD:PUBLISH
VERSION:2.0
PRODID:-//Eventilla iCal Syndication//NONSGML Liana//EN
BEGIN:VEVENT
UID:geRpq@eventilla.com
DTSTAMP:20240305T080000Z
DTSTART:20240305T080000Z
DTEND:20240305T090000Z
SUMMARY:Haeavustuksia -palvelun hakuinfo
DESCRIPTION:Museovirasto avaa helmi-maaliskuun 2024 aikana kaksi valtionavustusta haettavaksi valtionhallinnon uuteen Haeavustuksia-palveluun:\n\nAvustukset kuvataiteilijoiden näyttelypalkkioihin (hakuaika 27.2.-9.4.)\n\nAvustukset Euroopan neuvoston kulttuurireittitoimintaa vahvistaviin yhteistyö- ja kehittämishankkeisiin (hakuaika 4.3.-3.5.)\n\n\nTervetuloa Museoviraston Haeavustuksia -palvelua esittelevään hakuinfoon 5.3.2024 klo 10-11.\nHakuinfossa käydään läpi valtionavustuksen hakeminen Haeavustuksia -palvelussa. Lisäksi kuulet lyhyet esittelyt avustuksista kuvataiteilijoiden näyttelypalkkioihin sekä avustuksista Euroopan neuvoston kulttuurireittitoimintaa vahvistaviin yhteistyö- ja kehittämishankkeisiin. Ilmoittaudu hakuinfoon viimeistään 3.3.2024.\nVoit lähettää hakuun liittyviä kysymyksiä etukäteen sähköpostilla osoitteeseen anni.alho@museovirasto.fi. Lähetä kysymyksesi ennen ilmoittautumisajan päättymistä 3.3.2024. Saat vastaukset etukäteen lähetettyihin kysymyksiin hakuinfossa.\nYläreunan kuva: Riku Pihlanto\, Visit Finland
LOCATION:Teams
URL:http://ssl.eventilla.com/haeavustuksia_palvelun_hakuinfo
END:VEVENT
END:VCALENDAR
