BEGIN:VCALENDAR
METHOD:PUBLISH
VERSION:2.0
PRODID:-//Eventilla iCal Syndication//NONSGML Liana//EN
BEGIN:VEVENT
UID:go9ao@eventilla.com
DTSTAMP:20241209T103000Z
DTSTART:20241209T103000Z
DTEND:20241209T134500Z
SUMMARY:Suomi ja suomalaisuus muuttuvassa historiakulttuurissa
DESCRIPTION:Suomi ja suomalaisuus muuttuvassa historiakulttuurissa\nSuomea ja suomalaisuutta kerrotaan monin tavoin. Suomen historia ja siihen liittyvät myytit ovat keskeisiä suomalaisuuden rakennusaineita. Historiakulttuuri – miten menneisyyttä tuotetaan\, välitetään\, käytetään ja ylläpidetään – kuitenkin muuttuu. Suomessa siihen vaikuttavat monet tekijät\, kuten tutkimus\, opetus\, vuosijuhlat\, monikulttuurisuus\, taide\, museonäyttelyt sekä populaarikulttuuri.\nSeminaarissa keskustellaan siitä\, miten museot ja media muokkaavat käsityksiä Suomesta ja suomalaisuudesta. Ovatko käsitykset Suomen historiasta samoja kuin ennen vai onko niihin tullut uusia painotuksia tai sävyjä? Miten museoiden pitäisi reagoida Suomen historian esittämiseen tulevaisuudessa? Hallitseeko median välittämä historia sitä\, miten me Suomen ymmärrämme?\nTapahtuma on Koneen Säätiön rahoittaman Suomen tarinat. Historiakulttuuri\, taide ja muuttuva kansalaisuus -hankkeen loppuseminaari ja sen lopputulemana syntyneen Kertomuksia kansakunnasta. Suomi ja suomalaisuus muuttuvassa historiakulttuurissa -kokoelmateoksen julkaisutilaisuus.\nTapahtumassa Gaudeamus kustannus myy kirjaa tarjoushintaan.\nTapahtumaan on vapaa pääsy. \nOhjelma\n12:30–12:45 Jukka Kortti: Avauspuheenvuoro\n12:45–13:45 Keskustelu I: Museot ja tulevaisuus\nKeskustelussa pohditaan\, millaista tulevaisuustyötä historiallisissa museoissa ja tiedekeskuksissa tehdään\, miten esineitä hyödynnetään kansallisuuden esittämisessä\, millaisia keinoja näillä instituutioilla on edistää yhdenvertaisuutta ja moninäkökulmaisuutta\, ja millaisessa muutoksessa kansallisuuden narratiivi on nyt ja tulevaisuudessa.\nModeraattori: Mari Viita-aho\nKeskustelijat: Elina Anttila (Suomen kansallismuseo)\, Johanna Enqvist (Heureka ja Suomen tiedekeskukset ry) ja Minna Turtiainen (ICOM Suomen puheenjohtaja)\nKommenttipuheenvuoro: Heidi Henriikka Mäkelä (SKS\, Taideyliopisto\, HY)\n13:45–14:15 Kahvitauko\n14:15–14:30 Martina Marti: Taide ja muuttuvat tarinat suomalaisuudesta\nKlo 14:30–15:30: Keskustelu II\, Historia ja media\nKeskustelussa tarkastellaan historian ja median vahvaa yhteen linkittymistä niin julkisuuden kuin tutkimuksen tasoilla. Yhtäältä media on vaikuttanut vahvasti mielikuviin menneisyydestä\, toisaalta historian esittäminen mediassa on tutkijoiden sekä tutkimuskohde että foorumi historiaa käsiteltäessä. Sosiaalisen median aikakausi on tuonut aivan uuden ulottuvuuden historian käytölle tyypillisesti hyvin ajankohtaisten asioiden ruotimisessa. \nModeraattori: Rami Mähkä\nKeskustelijat Pertti Grönholm (TY)\, Raita Merivirta (TY)\, Samu Nyström (HY)\nKommenttipuheenvuoro: Jukka Kortti (HY)\n15:30–15:45 Jukka Kortti: Kiitokset ja loppusanat\nTapahtuman tuottavat Suomen kansallismuseo\, Koneen Säätiön rahoittama Suomen tarinat. Historiakulttuuri\, taide ja muuttuva kansalaisuus -hanke\, Historioitsijat ilman rajoja -yhdistys ja Gaudeamus. \n 
LOCATION:Kansallismuseon väistötilojen auditorio, Ratapihantie 9,
 Helsinki\, Ratapihantie 9\, 00520\, Helsinki\, Suomi
URL:http://ssl.eventilla.com/suomentarinat
END:VEVENT
END:VCALENDAR
