BEGIN:VCALENDAR
METHOD:PUBLISH
VERSION:2.0
PRODID:-//Eventilla iCal Syndication//NONSGML Liana//EN
BEGIN:VEVENT
UID:gozDV@eventilla.com
DTSTAMP:20250708T210000Z
DTSTART:20250708T210000Z
DTEND:20250710T140000Z
SUMMARY:Ruttukurssi 9.-10.7.2025
DESCRIPTION:Tervetuloa tutustumaan ruttaamisen saloihin Pirttikosken Pasin johdolla!!!\nKaikkihan tietää\, että tulevaisuuden hyppylaji on ruttaaminen = CF = Canopy Formation.\nNyt sulla on mahdollisuus tulla kokeilemaan miltä tuntuu kietoutua toisen hyppääjän punoksiin turvallisesti\, kokeneen kouluttajan kanssa.\nKurssin hinta on 50€ (kattaa koulutuksen\, koutsin kulut ja kalustovuokran). \nLisäksi omat ja koutsin hypyt SdF hyppyhinnaston mukaisesti. Kurssin aikana hypätään 2 hyppyä kouluttajan kanssa.\nTapahtumaan osallistuminen edellyttää Skydive Finland ry:n jäsenyyttä.
LOCATION:Skydive Finland ry\, Lentoportintie 85\, 45410\, Utti\, Suomi
URL:http://ssl.eventilla.com/event/gozDV
END:VEVENT
END:VCALENDAR
