BEGIN:VCALENDAR
METHOD:PUBLISH
VERSION:2.0
PRODID:-//Eventilla iCal Syndication//NONSGML Liana//EN
BEGIN:VEVENT
UID:j12ZD@eventilla.com
DTSTAMP:20200314T070000Z
DTSTART:20200314T070000Z
DTEND:20200314T150000Z
SUMMARY:Hevosten aineenvaihdunnalliset sairaudet
DESCRIPTION:Koulutuspäivän aikana päivität tietosi aineenvaihdunnallisista lihassairauksista sekä metabolisesta oireyhtymästä (EMS) ja hevosen Cushingin taudista (PPID). Kaviokuumeeseen syvennytään tarkemmin erillisellä luennolla\, sillä se on laaja aihe ja kaviokuumepotilaisiin törmää kohtalaisen usein praktiikassa.\nHUOMAA: Ilmoittautuessasi myös Hevosten immunologia ja ihosairaudet (13.3.) -koulutustilaisuuteen on päiväkohtainen hinta edullisempi! *\n 
LOCATION:Sokos Hotel Vaakuna Hämeenlinna\, Possentie 7\, 13200\,
 Hämeenlinna\, Suomi
URL:http://ssl.eventilla.com/hevoset1432020
END:VEVENT
END:VCALENDAR
