BEGIN:VCALENDAR
METHOD:PUBLISH
VERSION:2.0
PRODID:-//Eventilla iCal Syndication//NONSGML Liana//EN
BEGIN:VEVENT
UID:j1ZGr@eventilla.com
DTSTAMP:20150422T060000Z
DTSTART:20150422T060000Z
DTEND:20150422T100000Z
SUMMARY:Puheeksiottovalmennus
DESCRIPTION:Tarvitaanko teillä lisää rohkeutta haastavien tilanteiden hoitamiseen?\nHaastavien asioiden puheeksiotto on esimiestyön perusasioita. Tämä valmennus on sinulle\, joka kaipaat lisää rohkeutta haasteellisissa tilanteissa toimimiseen. Tilaisuus sopii niin tuoreille kuin kokeneemmillekin esimiehille.\nValmennuksessa käydään läpi puheeksiottoa sekä tuloksellisen suorituksen johtamisen että työhyvinvoinnin johtamisen näkökulmasta. Käsittelemme osallistujien tuomia arjen työelämän haastavia tilanteita\, joiden avulla harjoitellaan ja valmistaudutaan puheeksiottotilanteisiin.\n\nKuinka sairaslomalla ollutta työntekijää pitäisi tukea työhön paluussa?\nMiten otan puheeksi työntekijän asiattoman käytöksen?\nMiten toimin\, jos työkyky tai osaaminen on heikentynyt?\nKuinka puutun asiantuntijan omavaltaisiin linjauksiin?\nKuinka otan päihdeongelman puheeksi?\n\n Valmennus toteutetaan osallistavasti pienryhmässä\, joten osallistujien omat tavoitteet ja kysymykset huomioidaan teemojen valinnassa ja painotuksessa. Työskentely sisältää paljon puheeksiottotilanteiden harjoittelua.\n Hinta 390 €/osallistuja. Ryhmässä on rajallinen määrä paikkoja\, joten ilmoittaudu heti!\nJos haluat lisätietoja\, ota yhteyttä Ilseen: ilse.manner@agenssi.fi tai +358 45 12 732 12.
LOCATION:Agenssin toimisto\, Pohjoinen rautatiekatu 15 B 12\, 00100\,
 Helsinki
URL:http://ssl.eventilla.com/puheeksiottovalmennus
END:VEVENT
END:VCALENDAR
