BEGIN:VCALENDAR
METHOD:PUBLISH
VERSION:2.0
PRODID:-//Eventilla iCal Syndication//NONSGML Liana//EN
BEGIN:VEVENT
UID:j1po8@eventilla.com
DTSTAMP:20200508T060000Z
DTSTART:20200508T060000Z
DTEND:20200508T110000Z
SUMMARY:Miten golfalan ammattilaisen myyntityö voisi olla stressitöntä ja tuloksellista - Pe 8.5.2020 Helsingin Golfklubi
DESCRIPTION:Suomen PGA\, FGMA ja SGK järjestävät yhteistyössä  koulutuksen myynnistä golfalan ammattilaisille perjantaina 8.5.2020 kello 9 - 14 Helsingin Golfklubilla.\nKoulutuksen aikana avataan perinteisen myynnin toimintatapoja\, miksi se usein aiheuttaa stressiä ja turhautumista. Miten myydä vahvaa osaamistaan tyrkyttämättä? Miten luodaan järjestelmällinen myyntiprosessi\, jonka tuloksena asiakas itse haluaa ostaa\, ei vain kerran vaan toistuvasti?\nLisäksi koulutukseen sisältyy henkilökohtainen DISC- analyysi. DISC- analyysi on työkalu jota käytetään itsetuntemuksen ja viestinnän kehittämiseen. Sitä käyteytään apuna oppia paremmin ymmärtämään ihmisten tapoja vuorovaikutustilanteissa\, ja on erittäin arvokas yksilö-\, johtajuus- ja ryhmäkehityksessä.\nAsioita\, joita tilaisuudessa käsittelemme\n\nMikä stressaa myynnissä...?\n..eli mikä mättää perinteisessä myyntimallissa?\nMitä päässä liikkuu- niin myyjällä kuin asiakkaalla...Myynnin psykologiaa!\nVältä maksuton ”konsultointi”\nMiksei kiinnostunut ”asiakas” ollutkaan kiinnostunut\nMiten puhua rahasta\, luoda luottamus ja löytää todellinen syy asiakassuhteelle ja saada suosituksia\n\nKoulutukseen mahtuu maksimissaan 30 henkeä.\nPäivän koulutuksen sisällöstä vastaa Sandler Trainingin Sarita Nobile.Yhteystiedot:sarita.nobile@sandler.com040 515 8875 
LOCATION:Helsingin Golfklubi\, Talin puistotie 12\, 00380\, Helsinki\,
 Suomi
URL:http://ssl.eventilla.com/event/j1po8
END:VEVENT
END:VCALENDAR
