BEGIN:VCALENDAR
METHOD:PUBLISH
VERSION:2.0
PRODID:-//Eventilla iCal Syndication//NONSGML Liana//EN
BEGIN:VEVENT
UID:j1rKE@eventilla.com
DTSTAMP:20210811T160000Z
DTSTART:20210811T160000Z
DTEND:20210811T173000Z
SUMMARY:Palestine Cultural Week: From the Palestinian Memory
DESCRIPTION:In this meet-up with director Bashar Hamdan\, he will tell us about the initiatives and attempts to collect and document Palestinian archives\, stolen and lost archives in international archives\, the efforts made to collect\, document and preserve Palestinian cinema archives from being lost\, and the importance of employing culture\, arts and cinema for the sake of further legitimizing the Palestinian cause. The session will conclude with a presentation of Palestinian items from the Heritage Library.\nThe session will be held in Arabic with interpretation in English.\nThe event will be conducted online via Zoom.\nDate: 11 August 2021 \nTime: 7:00 – 8:30 PM \nLanguage: Arabic and English\nTarget Audience: General public \nSeats are limited\, please click the button below to register.
LOCATION:Online via Zoom
URL:http://events.qnl.qa/event/j1rKE
END:VEVENT
END:VCALENDAR
