BEGIN:VCALENDAR
METHOD:PUBLISH
VERSION:2.0
PRODID:-//Eventilla iCal Syndication//NONSGML Liana//EN
BEGIN:VEVENT
UID:jJP1z@eventilla.com
DTSTAMP:20150210T060000Z
DTSTART:20150210T060000Z
DTEND:20150210T083000Z
SUMMARY:Osallistamistekniikat - aamiaistilaisuus
DESCRIPTION:Osallistamistekniikat - aamiaistilaisuus\nOletko miettinyt miten saisit organisaationne tilaisuuksista enemmän irti? Tai millä keinoin käsittelet ja purat vaikeita tilanteita? Miten teillä ihmiset eri organisaation tasoilta innostetaan yhteiseen muutokseen tai uuden strategian toteuttamiseen työnsä arjessa?\nTervetuloa maksuttomaan aamiaistilaisuuteemme\, jossa saat herkullisen aamupalan lisäksi rautaisannoksen ymmärrystä osallistamistekniikoista ja niiden käyttämisen mahdollisuuksista omassa työssäsi. Aamiaista tarjoillaan klo 8.00 alkaen\, varsinainen ohjelma käynnistyy 8.30 ja loppuu viimeistään klo 10.30.\nTilaisuuden vetäjänä toimii Agenssin toimitusjohtaja Irma Hyvönen\, KTM ja emäntänä kehittämiskonsultti Ilse Manner\, YTM.\nKysy lisää Ilseltä: ilse.manner@agenssi.fi tai + 358 45 12 732 12\n 
LOCATION:Agenssin toimisto\, Pohjoinen rautatiekatu 15 B 12\, 00100\,
 Helsinki
URL:http://ssl.eventilla.com/agenssi_aamiainen_helmikuu
END:VEVENT
END:VCALENDAR
