BEGIN:VCALENDAR
METHOD:PUBLISH
VERSION:2.0
PRODID:-//Eventilla iCal Syndication//NONSGML Liana//EN
BEGIN:VEVENT
UID:jJdyb@eventilla.com
DTSTAMP:20190130T063000Z
DTSTART:20190130T063000Z
DTEND:20190130T100000Z
SUMMARY:Lämmöneristäminen - ilmastoteko ja investointi tulevaisuuteen
DESCRIPTION:Ympäristöministeriön tavoitteena on\, että rakennusten hiilijalanjäljen arviointi ja rakennustyyppikohtaiset päästörajat tulevat Suomessa osaksi rakennusmääräyksiä 2020-luvulla. Rakennustuoteteollisuus RTT ry:n Eristeteollisuus järjestää yhteistyössä Rakennuslehden kanssa seminaarin\, jossa keskitytään rakennusten elinkaaren hiilijalanjäljen parantamisen merkitykseen nyt ja tulevaisuudessa eri näkökulmista\, ml. rakentamismääräykset\, rakennuttajan ja sijoittajan sekä ympäristöjärjestön odotukset.\n \nOhjelma\n8.30 Ilmoittautuminen ja aamupala\n9.00 Seminaarin avaus: päätoimittaja Tapio Kivistö\, Rakennuslehti\n9.05 Kestävä rakentaminen ministeriön suuntaviivana: ministeri Kimmo Tiilikainen\, ympäristöministeriö\n9.35 Rakennusten hiilijalanjäljen laskentamenetelmä: erityisasiantuntija Matti Kuittinen\, ympäristöministeriö\n10.05 Verkottumistauko\n10.20 Asuinrakennusten rakenteellisen energiatehokkuuden elinkaarihyödyt: toimitusjohtaja Panu Pasanen\, Bionova Oy\n10.50 Hyvänmielen teoista todelliseen ilmastokriisin torjuntaan – Mikä on rakennusalan rooli? Ohjelmapäällikkö Jussi Nikula\, WWF Suomi\n11.10 Rakennuttajan ja kiinteistösijoittajan näkemykset kestävästä ja vastuullisesta rakennuttamisesta: rakennuttajapäällikkö Niina Rajakoski\, Keskinäinen Eläkevakuutusyhtiö Ilmarinen\n11.30 Paneelikeskustelu\nfasilitaattorina Peter Nyman & panelisteina\nKokoomus: Elina Lepomäki\nKeskusta: Hanna Kosonen\nSDP: Miapetra Kumpula-Natri\nVihreät: Ville Niinistö\n12.00 Tilaisuus päättyy\n \nRakenteellisen energiatehokkuuden reunaehtoja noudattava asuinrakennusten E-luku voidaan laskea helposti yksinkertaistetulla nettilaskurilla. Lataa E-lukulaskuri ilmaiseksi tästä >>>
LOCATION:Finlandia-talo\, Mannerheimintie 13\, 00100\, Helsinki
URL:http://tapahtumat.rakennuslehti.fi/event/jJdyb
END:VEVENT
END:VCALENDAR
