BEGIN:VCALENDAR
METHOD:PUBLISH
VERSION:2.0
PRODID:-//Eventilla iCal Syndication//NONSGML Liana//EN
BEGIN:VEVENT
UID:jMwGl@eventilla.com
DTSTAMP:20190809T210000Z
DTSTART:20190809T210000Z
DTEND:20191004T210000Z
SUMMARY:Vesiralli 2 (lauantai-ryhmä)
DESCRIPTION:Vesiralli 2 (lauantai-ryhmä) \nTavoite\nParantaa uimataitoa. Hauskuus. Uintiekniikoiden oppiminen. Uintitesti 8. kerralla. \nTaitovaatimus\nIkäsuositus: 8-vuotta. Tekniikka-uimakoulu käytynä. Vähintään 25 m sujuva uimataito. \nHarjoitteet\nEri uintilajien perustekniikat. Taitouintiliikkeitä. Vesipallon perusteet. Sukeltamista. Hyppyjä.\nOpetusallas: Iso allas (syvyys: 120cm - 230cm)Ryhmäkoko: 9 - 16 lasta\nHuomioitavaa\nSuuren kysynnän vuoksi ilmoittautuminen tapahtuu ensin jonotuslistalle\, jonka jälkeen pyrimme järjestämään ryhmät kaikille osallistujille parhaimmalla tavalla.\nJonotuslistalle ilmoittautuminen ei vielä takaa osallistumisoikeutta kurssille.\nSaat ilmoittautumisen yhteydessä sähköpostin vahvistuksena\, joka takaa että ilmoittautumisesi on tullut perille.\nIlmoitamme kaikille kursseille valituille maksuohjeet myöhemmin erillisellä sähköpostiviestillä.
LOCATION:Zimmari\, Pekurintie 1\, 90450\, Kempele
URL:http://ssl.eventilla.com/kempy-vesiralli2-la30
END:VEVENT
END:VCALENDAR
