BEGIN:VCALENDAR
METHOD:PUBLISH
VERSION:2.0
PRODID:-//Eventilla iCal Syndication//NONSGML Liana//EN
BEGIN:VEVENT
UID:jN3YA@eventilla.com
DTSTAMP:20211201T110000Z
DTSTART:20211201T110000Z
DTEND:20211201T130000Z
SUMMARY:Vastuullisten ruokapalveluiden hankintaoppaan julkaisuwebinaari
DESCRIPTION:Tervetuloa vastuullisten ruokapalveluiden hankintaoppaan julkaisuwebinaariin keskiviikkona 1.12. kello 13-15.\nTilaisuudessa kuulet esimerkkejä oppaan tarjoamista mahdollisuuksista kehittää ruokapalveluita entistä vastuullisimmaksi ja toimivammiksi. Ruokapalvelut voidaan tuottaa omana toimintana\, in-house-mallilla tai ne voidaan kilpailuttaa ja tuottaa ostopalveluina.\nTilaisuuden ohjelma\nKlo 13.00        \n\nTilaisuuden avaus kansliapäällikkö Jaana Husu-Kallio\, maa- ja metsätalousministeriö\nOppaan esittely erityisasiantuntija Auli Väänänen\, maa- ja metsätalousministeriö\nKäytännön esimerkkejä oppaan sisällöstä - mitä opas tarjoaa ruokapalveluiden järjestämiseen ja hankintaan palvelupäällikkö Suvi Haukioja\, Turun kaupunki ja ravitsemispäällikkö Laura Rantalainen\, Kuopion yliopistollinen sairaala\nRuokapalvelu ruokakasvatusta tukemassa pääsihteeri Arja Lyytikäinen\, Valtion ravitsemusneuvottelukunta\nYleisön kysymykset\n\nKlo 14:00       \n\nUusi opas käytännössä - ruokapalveluiden järjestämisen asiantuntijoiden näkemyksiä oppaasta sen sisällöstä ja merkityksestä\nRuokapalvelujohtaja Minna Ahola\, Espoon kaupunki\nRuoka- ja siivouspalvelupäällikkö Taina Matilainen\, Akaan kunta\nSosiaali- ja terveysjohtaja Jukka Lindberg\, Hämeenlinnan kaupunki\nRavintohuoltokoordinaattori Minna Lappalainen\, Päijät-Hämeen hyvinvointikuntayhtymä\nRyhmäpäällikkö Hanna Nuutinen\, Valtioneuvoston kanslia\nMyyntipäällikkö Mari Rantala\, Palmia Oy\nRuokapalvelujohtaja Elina Särmälä\, Saimaan tukipalvelut Oy\nYleisön kysymyksille on aikaa klo 14 alkavassa osiossa aina kahden puheenvuoron jälkeen\nOppaan verkkosivuston julkaisu ja päätössanat\n\nTilaisuuden juontaa maa- ja metsätalousministeriön viestintäasiantuntija Taina Saahko. Tilaisuus päättyy klo 15.00.\n \nOpas ja sen julkaisutilaisuus on suunnattu päättäjille\, julkisten ruokapalveluiden järjestäjille ja ruokapalveluista ja niiden hankinnasta vastaaville sekä ruokapalveluiden ja julkisten hankintojen kehittämisestä kiinnostuneille.\nOpas toteuttaa kansallisen julkisten hankintojen strategian tavoitetta kestävistä ja vastuullisista ruokapalvelu- ja elintarvikehankinnoista. Se ohjeistaa\, miten ruokapalvelua ja sen hankintaa voidaan kehittää entistä vastuullisemmaksi\, laadukkaammaksi ja vastaamaan sille asetettuja vaatimuksia. Ruokapalveluiden ja niiden tarjoaman ruuan merkitys ja vaikuttavuus esimerkiksi kuntastrategian ja kestävyys- ja ravitsemustavoitteiden toteuttamisessa tulee myös esille.\n \nWebinaarin ennakkoilmoittautuminen on päättynyt. Tapahtuma on kuitenkin kaikille avoin\, ja voit liittyä siihen alla olevasta linkistä.\n \nMicrosoft Teams -kokous\nLiity tietokoneella tai mobiilisovelluksella\nLiity kokoukseen napsauttamalla tästä\nMikäli webinaariin liittymisessä on ongelmia\, otathan yhteyttä jasmin.rikkonen@gov.fi tai +358 504739793.
LOCATION:Verkkoseminaari\, Suomi
URL:http://ssl.eventilla.com/ropas
END:VEVENT
END:VCALENDAR
