BEGIN:VCALENDAR
METHOD:PUBLISH
VERSION:2.0
PRODID:-//Eventilla iCal Syndication//NONSGML Liana//EN
BEGIN:VEVENT
UID:jNo96@eventilla.com
DTSTAMP:20190912T080000Z
DTSTART:20190912T080000Z
DTEND:20190912T203000Z
SUMMARY:FGMA Mestaruuskisa 2019 + virkistäytymistapaaminen
DESCRIPTION:FGMA mestaruuskilpailut + virkistäytymistapaaminen\n12.9.2019\, Tammer Golf\nTorstai 12.9.201911.00 - 11.30 Keittolounas\, ilmoittautuminen ja lämmittely11.30 - 12.00 Infotilaisuus ja peliohjeet12.00 - 16.00 FGMA:n mestaruuskisa yhteislähtönä (kierroksen aikana makkaraa ja juotavaa)16.00 - 16.30 Makkaramaistelubuffa klubilla16.30 - 18.00 Siirtyminen hotellin kautta illanviettopaikkaan (https://saunaravintolakuuma.fi/). Hotellisuosituksena Sokos Hotel Ilves (lähin hotelli Kuumasta katsottuna)18.00 - 18.30 Ruoka buffasta ja kaksi kaatoa viiniä tai 2*olut/2*lonkero/2*siideri18.30 - 19.00 Särkänniemen toimitusjohtajan esitys19.00 - 19.30 Visit Tampereen johtajan esitys19.30 - 20.00 Palkintojenjako20.00 eteenpäin mahdollisuus saunoa ja uida (suosittelemme ottamaan mukaan omat uikkarit)23.30 valomerkki00.00 kaikki ulkona Perjantai 13.9.2019Vapaamuotoinen pelikierros Pirkanmaan alueen kentillä. Ole yhteydessä suoraan kyseisen kentän toimitusjohtajaan varataksesi peliajan.
LOCATION:Tammer Golf & Saunaravintola Kuuma\, Tenniskatu 25\, 33560\,
 Tampere\, Suomi
URL:http://ssl.eventilla.com/event/jNo96
END:VEVENT
END:VCALENDAR
