BEGIN:VCALENDAR
METHOD:PUBLISH
VERSION:2.0
PRODID:-//Eventilla iCal Syndication//NONSGML Liana//EN
BEGIN:VEVENT
UID:je90A@eventilla.com
DTSTAMP:20180721T070000Z
DTSTART:20180721T070000Z
DTEND:20180721T150000Z
SUMMARY:Arctic Challenge Summer 2018
DESCRIPTION:ARCTIC CHALLENGE 21.7.2018\nArctic Challenge on äärimmäisen kova haasteottelu keskellä Levin karua tunturiluontoa! Arctic Challenge haasteet vievät sinut ja parisi tunturin armoille\, kiviharkkojen\, suon ja kelotukkien keskelle. Arctic Challenge on armoton kokemus\, jossa rapa roiskuu ja suo on tehty ylitystä varten. 10 km juoksua ja 18 haastetta. Kyse on kuitenkin kokonaisuudesta\, tunteesta ja elämyksestä.\nArctic Challenge perustuu arvoihin\, jotka ovat itsensä voittaminen\, tahdonvoima\, tiimityö ja luonnon kunnioitus. Nämä arvot johdattavat osallistujia koko kisan ajan sen alkumetreiltä aina maaliin asti.\nArctic Challenge sopii kaikille\, jotka haluavat kokea\, miltä itsensä ylittäminen tuntuu. Haasta siis omat äärirajasi Arctic Challengen muodossa ja ilmoittaudu parisi kanssa mukaan tapahtumaan jo tänään!\nArctic Challenge on haasteottelu\, joka koettelee sekä fyysisiä että henkisiä voimavaroja. Lähtöviivalla valamme osallistujiin voimaa ja tahtoa. Tämän voimantunteen\, fyysisten voimavarojen ja parin turvin lähdetään Arctic Challenge reitille. Reitille ei lähdetä numerolappu rinnassa vaan kelopölliin poltettu kisanumero kainalossa. Reitissä ja haasteissa korostuvat luonnonmukaisuus ja ratkaisut\, jotka kuormittavat tunturiluontoa mahdollisimman vähän.\nMatka ja lähtöajat\nArctic Challenge on parikilpailu\, jossa yksin ilmoittautuneille löydämme parin osallistuneiden joukosta. Lähdöt tapahtuvat kisapäivänä klo 11-13 välisenä aikana.Parien ja joukkueen tulee ilmoittautuessa ilmoittaa sama joukkueen nimi!\nOsallistumismaksu\nOsallistumismaksu on 65 €.\nVarhain ilmoittautuneet palkitaan ruhtinaallisin alennuksin!30.11.2017 (-30%) 45\,50 €31.12.2017 (-20%) 52\,00 €30.4.2018 (-10%) 58\,50 €\nILMOITTAUTUMINEN PÄÄTTYY KUN 900 OSALLISTUJAA TULEE TÄYTEEN!\nLähtö-ja maalialue\nLähtö-ja maalialue sijaitsevat Levi keskuksessa\, Zero Pointin läheisyydessä. Arctic Challenge kisa-alueella tapahtuman yhteistyökumppanit pitävät tunnelmaa yllä koko päivän!\nKurkkaa tunnelmia vuoden 2016 Arctic Challenge kisasta\n \nLisätiedot\ninfo@leviwellnessclub.fi \n0400232641\nTapahtuman ikäraja on 18.\nKotisivuhttp://www.arcticchallenge.fi
LOCATION:Levi\, Hiihtäjänkuja 10\, 99130\, Sirkka\, Finland
URL:http://ssl.eventilla.com/event/je90A
END:VEVENT
END:VCALENDAR
