BEGIN:VCALENDAR
METHOD:PUBLISH
VERSION:2.0
PRODID:-//Eventilla iCal Syndication//NONSGML Liana//EN
BEGIN:VEVENT
UID:jwPN3@eventilla.com
DTSTAMP:20200922T140000Z
DTSTART:20200922T140000Z
DTEND:20200922T163000Z
SUMMARY:Työsuhdeilta Turku 22.9. verkkolähetys
DESCRIPTION:Työsuhdeilta: Mitä jokaisen pitäisi tietää yt-menettelystä\, irtisanomisista tuta-syillä sekä työttömyysturvasta?\nVaikka yt-menettely ei olisi sinun työpaikallasi juuri nyt ajankohtainen asia\, jokaisen palkkasuhteessa olevan kannattaa ymmärtää perusasioita niin irtisanomiseen kuin työttömyysturvaankin liittyen.\nTyösuhdeillan aikana käydään läpi irtisanomista tuotannollisilla ja taloudellisilla syillä sekä siihen liittyvää yhteistoimintamenettelyä\, lomautusta ja työttömyysturvaa. Kokeneet työmarkkinalakimiehemme kertovat eri tapauksista vuosien varrelta ja ohjeistavat\, miten sinun kannattaa tällaisissa tilanteissa toimia.\nVoit jättää kysymyksiä etukäteen\, jolloin niihin vastataan esityksen aikana tai lopuksi.\n \nIllan ohjelma\n17-19.30 YTYn päälakimies Heikki Meskanen kertoo työsuhteen päättämisestä ja työttömyysturvasta\, työmarkkinajuristi Jaana Liimatainen puhuu yt-neuvotteluista ja lomautuksista. Tilaisuus lähetetään livenä.\nTilaisuus on maksuton ja vain YTYn jäsenille. 
LOCATION:verkkolähetys
URL:http://ssl.eventilla.com/event/jwPN3
END:VEVENT
END:VCALENDAR
