BEGIN:VCALENDAR
METHOD:PUBLISH
VERSION:2.0
PRODID:-//Eventilla iCal Syndication//NONSGML Liana//EN
BEGIN:VEVENT
UID:jzGq7@eventilla.com
DTSTAMP:20190306T063000Z
DTSTART:20190306T063000Z
DTEND:20190328T140000Z
SUMMARY:CIA-tutkintoon valmentava koulutus
DESCRIPTION:Tiedot henkilötietojen käsittelystä ja suojaamisesta löytyvät yhdistyksen rekisteri- ja tietoturvaselosteesta: https://theiia.fi/wp-content/uploads/2018/05/iia-finland_rekisteriseloste.pdf\nKoulutuspäivät 6.\, 7.\, 19. ja 28.3.2019\n 
LOCATION:SPACES (Postitalo)\, Mannerheiminaukio 1\, 00100\, Helsinki
URL:http://ssl.eventilla.com/cia-kevat-2019
END:VEVENT
END:VCALENDAR
