BEGIN:VCALENDAR
METHOD:PUBLISH
VERSION:2.0
PRODID:-//Eventilla iCal Syndication//NONSGML Liana//EN
BEGIN:VEVENT
UID:kNZOJ@eventilla.com
DTSTAMP:20231010T060000Z
DTSTART:20231010T060000Z
DTEND:20231010T130000Z
SUMMARY:Organisaatiokulttuurin ja työnantajabrändin johtaminen - johto\, HR ja viestintä yhteisellä asialla
DESCRIPTION:AMKE kutsuu yhteiseen tilaisuuteen ammatillisen koulutuksen johdon sekä henkilöstöjohtamisen ja viestinnän asiantuntijoita!\nKokoonnumme kuulemaan ja pohtimaan kaikille tärkeitä ja yhteisiä teemoja: työnantajakuva\, organisaatiokulttuuri\, brändi ja johtaminen. Luvassa on puheenvuoroja huippuasiantuntijoilta\, keskustelua rohkeudesta sekä case-esimerkki yritysmaailmasta!\nPuhujina mm. \n\nPaula Wranger\, henkilöstöjohtaja\, Basemark\nPanu Luukka\, yrityskulttuurimuotoilija\, tietokirjailija ja Suomen johtava yrityskulttuurien ymmärryttäjä\nNina Rinne\, Dare to Lead™ fasilitaattori\, Executive & Team Coach\, johtajuuden ja kulttuurin kehittäjä\nMarika Gröhn\, Senior Communications Manager\, Kesko\n\nEarly bird -lippujen myynti on loppunut\, nyt myynnissä normaalihintaiset liput.\nPidätämme oikeuden muutoksiin.
LOCATION:Sokos Hotel Presidentti, Helsinki\, Eteläinen Rautatiekatu 4\,
 00100\, Helsinki
URL:http://ssl.eventilla.com/event/kNZOJ
END:VEVENT
END:VCALENDAR
