BEGIN:VCALENDAR
METHOD:PUBLISH
VERSION:2.0
PRODID:-//Eventilla iCal Syndication//NONSGML Liana//EN
BEGIN:VEVENT
UID:kr6Yb@eventilla.com
DTSTAMP:20261113T220000Z
DTSTART:20261113T220000Z
DTEND:20261114T220000Z
SUMMARY:Majoitusvaraus Aviopolis 14.-15.11.2026
DESCRIPTION:Tästä pääsette varaamaan ja maksamaan majoituksen tapahtuman ajalle. Tarjolla on yhden ja kahden hengen huoneita rajallinen määrä.\nMikäli mukananne tulee lapsia huomioittehan\, että kahden hengen huoneisiin (2hh) mahtuu vain 1 lisäpatja lapselle. Mikäli mukananne tulee 2 lasta ja haluatte molemmille lisäpatjan tulee teidän valita molemmille aikuisille omat yhden hengen huoneet ja niihin lisäpatjat lapsille.\nMajoituksiin ei sisälly liinavaatepakettia. Majoittujien tulee ottaa mukaansa omat lakanat ja pyyhkeet.\nMikäli haluatte majoittua jo ennen kurssin alkua\, varaattehan ensin majoituksen kurssin ajaksi ja olette sen jälkeen yhteydessä:\nSTEP-koulutusKatja ForsströmKoulutuskoordinaattorikatja.forsstrom@step.fi+358404877499
LOCATION:STEP-koulutus, Järvenpääntie 640, 04400 Järvenpää\,
 Järvenpää
URL:http://ssl.eventilla.com/event/kr6Yb
END:VEVENT
END:VCALENDAR
