BEGIN:VCALENDAR
METHOD:PUBLISH
VERSION:2.0
PRODID:-//Eventilla iCal Syndication//NONSGML Liana//EN
BEGIN:VEVENT
UID:krOaJ@eventilla.com
DTSTAMP:20241224T080000Z
DTSTART:20241224T080000Z
DTEND:20241224T090000Z
SUMMARY:Winter Camp for Children: STEM - Circuits
DESCRIPTION:Join us for an engaging and educational STEM-related activity that promises to be both fun and informative for ages 9 to 11. This workshop\, part of the Winter Camp for Children hosted by the Library\, focuses on teaching circuits. \nDate: 24 December 2024\nTime: 11:00 AM - 12:00 PM\nLanguage: Arabic and English\nTarget Audience: Children (9 - 11) year\nSeats are limited\, please click the button below to register.\n 
LOCATION:Auditorium\, Qatar National Library\, Doha\, Qatar
URL:http://events.qnl.qa/event/krOaJ
END:VEVENT
END:VCALENDAR
