BEGIN:VCALENDAR
METHOD:PUBLISH
VERSION:2.0
PRODID:-//Eventilla iCal Syndication//NONSGML Liana//EN
BEGIN:VEVENT
UID:krPG6@eventilla.com
DTSTAMP:20251129T163000Z
DTSTART:20251129T163000Z
DTEND:20251129T174500Z
SUMMARY:LYHÄRI- ILTA
DESCRIPTION:Mitä tapahtuu\, kun esitykselle annetaan vain hetki aikaa? Kun aika ja tila asettavat tiukat rajat – ja juuri niiden sisällä syntyy jotakin täysin uutta?\nManillan Jokistudiossa järjestettävä Lyhäri-ilta tuo yleisön eteen joukon tuoreita\, kokeellisia esitysaihioita\, jotka on työstetty viikon mittaisessa työskentelyresidenssissä marraskuussa. Lyhyen esitysmuodon rajoitukset haastavat tekijät tiivistämään ilmaisunsa ja etsimään uusia dramaturgisia ratkaisuja. Rajallinen kesto luo toisaalta paineen ja toisaalta selkeät raamit\, joiden sisällä syntyy yllättävää\, kekseliästä ja intensiivistä näyttämötaidetta.\nLyhäri-illan työryhmät on valittu Aura of Puppetsin ja Tehdas Teatterin taiteilijoille avoimen haun kautta. Kussakin ryhmässä on 2–4 esiintyjää\, ja pienet kokoonpanot mahdollistavat syvän keskittymisen yhteen ideaan tai ilmaisun tapaan. Työskentelyssä painottuu kokeilu\, tutkimus ja riskinotto – esitykset voivat olla yhtä lailla luonnoksia\, ehdotuksia tai valmiita muotoja.\nIllan aikana nähdään monimuotoinen kattaus esityksiä\, joissa kokeiluun pääsevät paikkasidonnaisuus\, äärimmäisen tiivis tempo ja jopa ilmavirtanuketuksen taiteellis-teknillinen tutkimus. Jokainen työryhmä lähestyy lyhyttä muotoa omasta näkökulmastaan\, ja tuloksena on sarja erilaisia esityskokeiluja\, jotka tarjoavat katsojalle ainutlaatuisen mahdollisuuden kurkistaa taiteellisen prosessin ytimeen.\nDemoesitykset esitetään lauantaina 29.11. Manillan Jokistudiossa – ensimmäistä kertaa yleisölle\, aivan tuoreeltaan ja vielä työn alla olevina versioina. Nämä esitykset ovat välivaiheita\, jotka voivat myöhemmin jatkaa elämäänsä muokattuina tai laajennettuina kokonaisuuksina. Lyhäri-ilta Manillassa tarjoaa mahdollisuuden nähdä\, miten ideat syntyvät\, muotoutuvat ja hengittävät. Tule kokemaan ilta\, jossa taiteellinen prosessi on avoin\, rohkea ja hetkessä elävä.\nResidenssissä työskentelevät ja iltamissa esiintyvät taiteilijat.\nAntti-Juhani Manninen ja Anniina Saksa \nTrial & Theatre -työryhmä\nTeatteri Qo\n \n3 lyhytesitystä\, max 20min / esitys\nLiput 10 / 5€ (Alennushinta AofP:n tai Tehtaan jäsenille) \n 
LOCATION:TEHDAS TEATTERI\, Kulttuuritehdas Manilla, Itäinen Rantakatu 64B
 3B\, 20810\, Turku\, Suomi
URL:http://ssl.eventilla.com/lyhari
END:VEVENT
END:VCALENDAR
