BEGIN:VCALENDAR
METHOD:PUBLISH
VERSION:2.0
PRODID:-//Eventilla iCal Syndication//NONSGML Liana//EN
BEGIN:VEVENT
UID:krlk6@eventilla.com
DTSTAMP:20250312T080000Z
DTSTART:20250312T080000Z
DTEND:20250312T090000Z
SUMMARY:Webinaari: Wisu ja MobiWisu - viljelysuunnitelma ajan tasalle!
DESCRIPTION:Webinaari: Wisu ja MobiWisu - viljelysuunnitelma ajan tasalle!\nAjankohta: ke 12.3. 2025 klo 10-11 \nTee viljelysuunnittelusta sujuvampaa – tutustu Wisun ja MobiWisun parhaisiin käytäntöihin!\nKevät on viljelysuunnittelun aikaa! Tule mukaan webinaariimme\, jossa käymme läpi\, kuinka Wisu ja MobiWisu tukevat tilasi suunnittelua ja auttavat hallitsemaan viljelytoimenpiteitä tehokkaasti. Näytämme käytännön esimerkkejä ja vinkkejä\, joilla voit hyödyntää ohjelmistoja parhaalla mahdollisella tavalla.\n🔹 Miten saat kaiken irti Wisun ja MobiWisun ominaisuuksista?🔹 Kuinka seurata ja päivittää viljelysuunnitelmaa helposti?🔹 Käytännön esimerkkejä sujuvasta viljelysuunnittelusta\nÄlä jää paitsi arvokkaista vinkeistä – nähdään webinaarissa! 😊\nVoit lähettää aiheeseen liittyviä ennakkokysymyksiä ilmoittautumislomakkeen kautta. Kysymykset käsitellään webinaarin aikana.\nWebinaari tallennetaan.\nLähetämme webinaarin jälkeen linkin webinaaritallenteeseen kaikille ilmoittautuneille.
LOCATION:
URL:http://ssl.eventilla.com/event/krlk6
END:VEVENT
END:VCALENDAR
