BEGIN:VCALENDAR
METHOD:PUBLISH
VERSION:2.0
PRODID:-//Eventilla iCal Syndication//NONSGML Liana//EN
BEGIN:VEVENT
UID:krow9@eventilla.com
DTSTAMP:20250902T060000Z
DTSTART:20250902T060000Z
DTEND:20250902T130000Z
SUMMARY:Kieli- ja reaaliaineet ulkoluokassa\, 2.9.2025\, Oulu
DESCRIPTION:Koulutus tarjoaa välineitä kieli- ja reaaliaineiden opetukseen ulkoympäristöissä tavoitteellisesti.
LOCATION:Alakööki\, Koulukatu 1\, 90100\, Oulu
URL:http://ssl.eventilla.com/kieli-ja_reaaliaineet_ulkoluokassa_oulu
END:VEVENT
END:VCALENDAR
